{"text_format":"1","workbook":"xlsx","n_sheets":2,"sheets":["DALI-Dimensionering","Komponentark"],"not_rendered":{"charts":0,"images":0,"macros":1,"external_links":0,"defined_names":2,"comments":1,"pivot_tables":0},"unopened":[],"bounds":{"document_bytes":16777216,"sheet_cells":100000,"rows_first":2000,"rows_last":500,"rows_between":2000,"halvings":0,"cell_chars":16384,"cell_head_chars":4096},"cells_cut":0,"cells_raw":0,"read":"whole","date_system":"1900"}

{"sheet":"DALI-Dimensionering","index":0,"n_rows":73,"n_cols":26,"rows_kept":73,"cut":false,"hidden":false,"merged":[[0,0,1,22],[0,27,56,27],[65,1,65,2],[2,4,2,7],[2,9,2,12],[2,14,2,17],[2,19,2,22],[57,0,57,26],[4,0,20,0],[32,0,48,0],[21,0,31,0]]}
[]
[]
[null," Enhed:","mA",null,"Navn på område",null,null,null,null,"Navn på område",null,null,null,null,"Navn på område",null,null,null,null,"Navn på område",null,null,null,null,"EAN Nr.","Varenr."]
[null,null,null,null,"Antal","Adr. 1-64","Adr. 65-127","mA",null,"Antal","Adr. 1-64","Adr. 65-127","mA",null,"Antal","Adr. 1-64","Adr. 65-127","mA",null,"Antal","Adr. 1-64","Adr. 65-127","mA"]
["Control gear","Forkoblinger / LED driver",2,null,0,{"$f":"E5","v":0},0,{"$f":"F5*$C5","v":0},null,0,{"$f":"J5","v":0},0,{"$f":"K5*$C5","v":0},null,0,{"$f":"O5","v":0},0,{"$f":"P5*$C5","v":0},null,0,{"$f":"T5","v":0},0,{"$f":"U5*$C5","v":0}]
[null,"416S - Lysdæmper 1x16A (3.680 W)",2,null,0,{"$f":"E6","v":0},0,{"$f":"F6*$C6","v":0},null,0,{"$f":"J6","v":0},0,{"$f":"K6*$C6","v":0},null,0,{"$f":"O6","v":0},0,{"$f":"P6*$C6","v":0},null,0,{"$f":"T6","v":0},0,{"$f":"U6*$C6","v":0}]
[null,"425S- Lysdæmper 1x25A ~ 5.750W",2,null,0,{"$f":"E7","v":0},0,0,null,0,{"$f":"J7","v":0},0,0,null,0,{"$f":"O7","v":0},0,0,null,0,{"$f":"T7","v":0},0,0]
[null,"452 - Universallysdæmper, 1 kanal",2,null,0,{"$f":"E8","v":0},0,0,null,0,{"$f":"J8","v":0},0,0,null,0,{"$f":"O8","v":0},0,0,null,0,{"$f":"T8","v":0},0,0,null,5707205610717,610452]
[null,"454 - Bagkantlysdæmper, 4 kanaler",2,null,0,{"$f":"E9*4","v":0},0,{"$f":"E9*$C9","v":0},null,0,{"$f":"J9*4","v":0},0,{"$f":"J9*$C9","v":0},null,0,{"$f":"O9*4","v":0},0,{"$f":"O9*$C9","v":0},null,0,{"$f":"T9*4","v":0},0,{"$f":"T9*$C9","v":0},null,5707205611271,610454]
[null,"455 - Forkantlysdæmper, 1 kanal",2,null,0,{"$f":"E10","v":0},0,{"$f":"F10*$C10","v":0},null,0,{"$f":"J10","v":0},0,{"$f":"K10*$C10","v":0},null,0,{"$f":"O10","v":0},0,{"$f":"P10*$C10","v":0},null,0,{"$f":"T10","v":0},0,{"$f":"U10*$C10","v":0},null,5707205610649,610455]
[null,"472 - Konverter, 1 kanal",2,null,0,{"$f":"E11","v":0},0,0,null,0,{"$f":"J11","v":0},0,0,null,0,{"$f":"O11","v":0},0,0,null,0,{"$f":"T11","v":0},0,0,null,5707205610687,610472]
[null,"474 - Konverter, 4 kanaler",2,null,0,{"$f":"E12*4","v":0},0,{"$f":"E12*$C12","v":0},null,0,{"$f":"J12*4","v":0},0,{"$f":"J12*$C12","v":0},null,0,{"$f":"O12*4","v":0},0,{"$f":"O12*$C12","v":0},null,0,{"$f":"T12*4","v":0},0,{"$f":"T12*$C12","v":0},null,5707205610977,610474]
[null,"478 - Controller 8 subnet Broadcast",2,null,0,{"$f":"E13*8","v":0},0,{"$f":"E13*$C13","v":0},null,0,{"$f":"J13*8","v":0},0,{"$f":"J13*$C13","v":0},null,0,{"$f":"O13*8","v":0},0,{"$f":"O13*$C13","v":0},null,0,{"$f":"T13*8","v":0},0,{"$f":"T13*$C13","v":0},null,5707205611639,610478]
[null,"490 - Markisemodul",2,null,0,{"$f":"E14*2","v":0},0,{"$f":"E14*$C14","v":0},null,0,{"$f":"J14*2","v":0},0,{"$f":"J14*$C14","v":0},null,0,{"$f":"O14*2","v":0},0,{"$f":"O14*$C14","v":0},null,0,{"$f":"T14*2","v":0},0,{"$f":"T14*$C14","v":0},null,5707205610700,610490]
[null,"491 - Relæ, 1 kanal",2,null,0,{"$f":"E15","v":0},0,{"$f":"F15*$C15","v":0},null,0,{"$f":"J15","v":0},0,{"$f":"K15*$C15","v":0},null,0,{"$f":"O15","v":0},0,{"$f":"P15*$C15","v":0},null,0,{"$f":"T15","v":0},0,{"$f":"U15*$C15","v":0},null,5707205610946,610491]
[null,"492 - Relæ, 1 kanal",2,null,0,{"$f":"E16","v":0},0,0,null,0,{"$f":"J16","v":0},0,0,null,0,{"$f":"O16","v":0},0,0,null,0,{"$f":"T16","v":0},0,0,null,5030797004924,610492]
[null,"493 - Relæ, 1 kanal",2,null,0,{"$f":"E17","v":0},0,0,null,0,{"$f":"J17","v":0},0,0,null,0,{"$f":"O17","v":0},0,0,null,0,{"$f":"T17","v":0},0,0,null,5030797004931,610493]
[null,"494 - Relæ, 4 kanaler",2,null,0,{"$f":"E18*4","v":0},0,{"$f":"E18*$C18","v":0},null,0,{"$f":"J18*4","v":0},0,{"$f":"J18*$C18","v":0},null,0,{"$f":"O18*4","v":0},0,{"$f":"O18*$C18","v":0},null,0,{"$f":"T18*4","v":0},0,{"$f":"T18*$C18","v":0},null,5030797993006,610494]
[null,"498 - Relæ, 8 kanaler",2,null,0,{"$f":"E19*8","v":0},0,{"$f":"E19*$C19","v":0},null,0,{"$f":"J19*8","v":0},0,{"$f":"J19*$C19","v":0},null,0,{"$f":"O19*8","v":0},0,{"$f":"O19*$C19","v":0},null,0,{"$f":"T19*8","v":0},0,{"$f":"T19*$C19","v":0},null,5707205610953,610498]
[null,"Hytronik relæ",2,null,0,{"$f":"E20","v":0},0,{"$f":"E20*$C20","v":0},null,0,{"$f":"J20","v":0},0,{"$f":"J20*$C20","v":0},null,0,{"$f":"O20","v":0},0,{"$f":"O20*$C20","v":0},null,0,{"$f":"T20","v":0},0,{"$f":"T20*$C20","v":0},null,5707205610953,610498]
[null,"Hytronik dæmper",2,null,0,{"$f":"E21","v":0},0,0,null,0,{"$f":"J21","v":0},0,0,null,0,{"$f":"O21","v":0},0,0,null,0,{"$f":"T21","v":0},0,0,null,5707205610953,610498]
["Input devices DALI 2","Steinel IR QUATTRO HD 20x20 DALI 2",8,null,0,0,{"$f":"E22","v":0},{"$f":"E22*$C22","v":0},null,0,0,{"$f":"J22","v":0},{"$f":"J22*$C22","v":0},null,0,0,{"$f":"O22","v":0},{"$f":"O22*$C22","v":0},null,0,0,{"$f":"T22","v":0},{"$f":"T22*$C22","v":0},null,null,610320]
[null,"Steinel DUAL HF 20x3 DALI 2",14,null,0,0,{"$f":"E23","v":0},{"$f":"E23*$C23","v":0},null,0,0,{"$f":"J23","v":0},{"$f":"J23*$C23","v":0},null,0,0,{"$f":"O23","v":0},{"$f":"O23*$C23","v":0},null,0,0,{"$f":"T23","v":0},{"$f":"T23*$C23","v":0},null,null,610320]
[null,"Steinel HF 360 Ø12 DALI 2",10,null,0,0,0,0,null,0,0,0,0,null,0,0,0,0,null,0,0,0,0,null,null,610320]
[null,"Steinel IS 3360 MX High-bay Ø36 DALI 2",6,null,0,0,0,0,null,0,0,0,0,null,0,0,0,0,null,0,0,0,0,null,null,610320]
[null,"Steinel IS 345 MX High-bay 30x4 DALI 2",6,null,0,0,0,0,null,0,0,0,0,null,0,0,0,0,null,0,0,0,0,null,null,610320]
[null,"320D2 - Digidim320 PIR Sensor DALI 2 ",10,null,0,0,0,0,null,0,0,0,0,null,0,0,0,0,null,0,0,0,0,null,null,610320]
[null,"321D2 - Digidim321 Multsensor DALI 2",10,null,0,0,{"$f":"E28","v":0},{"$f":"E28*$C28","v":0},null,0,0,0,0,null,0,0,0,0,null,0,0,0,0]
[null,"13XD2 - Betjeningspanel inkl. Ramme DALI 2",10,null,0,0,0,0,null,0,0,0,0,null,0,0,0,0,null,0,0,0,0,null,null,"12xx/13xx"]
[null,"14XD2 - Betjeningspanel inkl. Ramme DALI 2",10,null,0,0,0,0,null,0,0,0,0,null,0,0,0,0,null,0,0,0,0,null,null,"12xx/13xx"]
[null,"444D2 - Mini inputmodul DALI2",10,null,0,0,{"$f":"E31","v":0},{"$f":"E31*$C31","v":0},null,0,0,0,0,null,0,0,0,0,null,0,0,0,0]
[null,"445D2 - Mini inputmodul for status LED DALI2",10,null,0,0,{"$f":"E32","v":0},{"$f":"E32*$C32","v":0},null,0,0,0,0,null,0,0,0,0,null,0,0,0,0]
["Input devices","320 - Digidim320 PIR Sensor",10,null,0,{"$f":"E33","v":0},0,{"$f":"E33*$C33","v":0},null,0,{"$f":"J33","v":0},0,0,null,0,{"$f":"O33","v":0},0,0,null,0,{"$f":"T33","v":0},0,0]
[null,"321 - Digidim321 Multisensor",10,null,0,{"$f":"E34","v":0},0,{"$f":"E34*$C34","v":0},null,0,{"$f":"J34","v":0},0,0,null,0,{"$f":"O34","v":0},0,0,null,0,{"$f":"T34","v":0},0,0,null,5030797003217,610321]
[null,"322 - Digidim322 PIR Sensor HIGH BAY ",10,null,0,0,0,0,null,0,0,0,0,null,0,0,0,0,null,0,0,0,0,null,null,610322]
[null,"341 - Digidim 341 Pir sensor",20,null,0,0,0,0,null,0,0,0,0,null,0,0,0,0,null,0,0,0,0,null,5030797003415,610341]
[null,"313 - Mikrobølgesensor",20,null,0,0,0,0,null,0,0,0,0,null,0,0,0,0,null,0,0,0,0,null,5030797003132,610313]
[null,"314 - Mikrobølgesensor, kipbar",40,null,0,0,0,0,null,0,0,0,0,null,0,0,0,0,null,0,0,0,0,null,5030797003149,610314]
[null,"318 - PIR sensor, afbrydermonteret",10,null,0,0,0,0,null,0,0,0,0,null,0,0,0,0,null,0,0,0,0,null,5030797013186,610318]
[null,"329 - Lyssensor",10,null,0,0,0,0,null,0,0,0,0,null,0,0,0,0,null,0,0,0,0,null,5707205611597,610329]
[null,"13X - Betjeningspanel inkl. Ramme",10,null,0,{"$f":"E41","v":0},0,0,null,0,{"$f":"J41","v":0},0,0,null,0,{"$f":"O41","v":0},0,0,null,0,{"$f":"T41","v":0},0,0]
[null,"19X - Illustris paneler",22,null,0,0,0,{"$f":"E42*$C42","v":0},null,0,{"$f":"J42","v":0},0,0,null,0,{"$f":"O42","v":0},0,0,null,0,{"$f":"T42","v":0},0,0,null,"Div.","61019X"]
[null,"441 - Mini inputmodul for PIR",10,null,0,0,0,{"$f":"E43*$C43","v":0},null,0,0,0,0,null,0,0,0,0,null,0,0,0,0,null,5030797551107,610444]
[null,"444 - Mini inputmodul",10,null,0,0,0,0,null,0,0,0,0,null,0,0,0,0,null,0,0,0,0,null,5030797551107,610444]
[null,"445 - Mini inputmodul for status LED",15,null,0,0,0,0,null,0,0,0,0,null,0,0,0,0,null,0,0,0,0,null,5707205611585,610445]
[null,"SRQ015 - Mini inputmodul 8 input",15,null,0,0,0,{"$f":"E46*$C46","v":0},null,0,0,0,0,null,0,0,0,0,null,0,0,0,0]
[null,"434 - EnOcean Gateway",20,null,0,0,0,0,null,0,0,0,0,null,0,0,0,0,null,0,0,0,0,null,5707205611608,610434]
[null,"18x - EnOcean tryk",0,null,0,0,0,0,null,0,0,0,0,null,0,0,0,0,null,0,0,0,0,null,"Div.","61018X"]
[null,"942 - Inputmodul, 8 inputkanaler",10,null,0,0,0,0,null,0,0,0,0,null,0,0,0,0,null,0,0,0,0,null,5707205611325,610942]
[]
[null,"Adresser:",null,null,null,{"$f":"SUM(F5:F49)","v":0},{"$f":"SUM(G5:G49)","v":0},null,null,null,{"$f":"SUM(K5:K49)","v":0},{"$f":"SUM(L5:L49)","v":0},null,null,null,{"$f":"SUM(P5:P49)","v":0},null,null,null,null,{"$f":"SUM(U5:U49)","v":0}]
[null,"mA",null,null,null,null,null,{"$f":"SUM(H5:H51)","v":0},null,null,null,null,{"$f":"SUM(M5:M51)","v":0},null,null,null,null,{"$f":"SUM(R5:R51)","v":0},null,null,null,null,{"$f":"SUM(W5:W51)","v":0}]
[]
[null,"Udvidelsesfaktor",null,null,0.15]
[]
[null,"Nødvendigt antal DALI-busser med X % Udvidelse",null,null,null,{"$f":"IF($E$54=0,ROUNDUP(IF((F72)>(H72),(F72),(H72)),0),ROUNDUP(IF((F72)>(H72),(F72)*($E$54+1),(H72)*($E$54+1)),0))","v":0},null,null,null,null,{"$f":"IF($E$54=0,ROUNDUP(IF((K72)>(M72),(K72),(M72)),0),ROUNDUP(IF((K72)>(M72),(K72)*($E$54+1),(M72)*($E$54+1)),0))","v":0},null,null,null,null,{"$f":"IF($E$54=0,ROUNDUP(IF((P72)>(R72),(P72),(R72)),0),ROUNDUP(IF((P72)>(R72),(P72)*($E$54+1),(R72)*($E$54+1)),0))","v":0},null,null,null,null,{"$f":"IF($E$54=0,ROUNDUP(IF((U72)>(W72),(U72),(W72)),0),ROUNDUP(IF((U72)>(W72),(U72)*($E$54+1),(W72)*($E$54+1)),0))","v":0}]
[null,"Antal 950 router (Varenr. 610950)",null,null,null,{"$f":"ROUNDUP(F56/4,0)","v":0},null,null,null,null,{"$f":"ROUNDUP(K56/4,0)","v":0},null,null,null,null,{"$f":"ROUNDUP(P56/4,0)","v":0},null,null,null,null,{"$f":"ROUNDUP(U56/4,0)","v":0},null,null,null,5707205610762,610910]
[]
[]
[]
[]
[]
[]
[]
[]
[]
[]
[]
[]
[]
[]
[null,"Normal",null,null,null,{"$f":"IF(((+F51/64))<0,\"0\",(F51/64))","v":0},null,{"$f":"IF((+H52/250)<0,\"0\",(H52/250))","v":0},null,null,{"$f":"IF(((+K51/64))<0,\"0\",(K51/64))","v":0},null,{"$f":"IF((+M52/250)<0,\"0\",(M52/250))","v":0},null,null,{"$f":"IF(((+P51/64))<0,\"0\",(P51/64))","v":0},null,{"$f":"IF((+R52/250)<0,\"0\",(R52/250))","v":0},null,null,{"$f":"IF(((+U51/64))<0,\"0\",(U51/64))","v":0},null,{"$f":"IF((+W52/250)<0,\"0\",(W52/250))","v":0}]
[null,"Normal",null,null,null,{"$f":"+F51/64","v":0},null,{"$f":"+H52/250","v":0},null,null,{"$f":"+K51/64","v":0},null,{"$f":"+M52/250","v":0},null,null,{"$f":"+P51/64","v":0},null,{"$f":"+R52/250","v":0},null,null,{"$f":"+U51/64","v":0},null,{"$f":"+W52/250","v":0}]

{"sheet":"Komponentark","index":1,"n_rows":96,"n_cols":22,"rows_kept":96,"cut":false,"hidden":false,"merged":[[49,7,50,7],[8,9,8,11],[1,0,49,0],[2,4,2,6],[3,4,3,6],[4,4,4,6],[5,4,5,6],[6,4,6,6],[7,4,7,6],[8,3,8,6]]}
[]
[]
[null,null,null,"Firmanavn:"]
[null,null,null,"Att.:"]
[null,null,null,"Gade:"]
[null,null,null,"Postnummer / By:"]
[null,null,null,"Tlf.:"]
[null,null,null,"Email.:"]
[null,null,null,"OBS. Alle priser er listepriser eksl. moms.",null,null,null,null,null,null,null,null,null,null,null,null,null,null,null,null,null,{"$f":"IF(E9=\"\",\"\",\"1\")","v":""}]
[null,null,"Varenummer","Varetekst","Antal","Listepris","Total","EAN Nummer"]
[null,null,{"$f":"IF(Komponentark!C61=\"\",\"\",Komponentark!D61)","v":{"$error":"#REF!"}},{"$f":"IF(C11=\"\",\"\",Komponentark!E61)","v":{"$error":"#REF!"}},{"$f":"IF(C11=\"\",\"\",Komponentark!C61)","v":{"$error":"#REF!"}},{"$f":"IF(C11=\"\",\"\",Komponentark!G61)","v":{"$error":"#REF!"}},{"$f":"IF(E11=\"\",\"\",SUM(E11*F11))","v":{"$error":"#REF!"}},{"$f":"IF(C11=\"\",\"\",Komponentark!F61)","v":{"$error":"#REF!"}},null,null,{"$f":"IF(C11=\"\",\"\",VLOOKUP(C11,$D$60:$K$95,8,FALSE))","v":{"$error":"#REF!"}},null,null,null,null,null,null,null,null,null,1,{"$f":"IF(E11=\"\",\"\",\"1\")","v":{"$error":"#REF!"}}]
[null,null,{"$f":"IF(Komponentark!C62=\"\",\"\",Komponentark!D62)","v":{"$error":"#REF!"}},{"$f":"IF(C12=\"\",\"\",Komponentark!E62)","v":{"$error":"#REF!"}},{"$f":"IF(C12=\"\",\"\",Komponentark!C62)","v":{"$error":"#REF!"}},{"$f":"IF(C12=\"\",\"\",Komponentark!G62)","v":{"$error":"#REF!"}},{"$error":"#REF!"},{"$f":"IF(C12=\"\",\"\",Komponentark!F62)","v":{"$error":"#REF!"}},null,null,{"$error":"#REF!"},null,null,null,null,null,null,null,null,null,2,{"$error":"#REF!"}]
[null,null,{"$f":"IF(Komponentark!C63=\"\",\"\",Komponentark!D63)","v":{"$error":"#REF!"}},{"$f":"IF(C13=\"\",\"\",Komponentark!E63)","v":{"$error":"#REF!"}},{"$f":"IF(C13=\"\",\"\",Komponentark!C63)","v":{"$error":"#REF!"}},{"$f":"IF(C13=\"\",\"\",Komponentark!G63)","v":{"$error":"#REF!"}},{"$error":"#REF!"},{"$f":"IF(C13=\"\",\"\",Komponentark!F63)","v":{"$error":"#REF!"}},null,null,{"$error":"#REF!"},null,null,null,null,null,null,null,null,null,3,{"$error":"#REF!"}]
[null,null,{"$f":"IF(Komponentark!C64=\"\",\"\",Komponentark!D64)","v":{"$error":"#REF!"}},{"$f":"IF(C14=\"\",\"\",Komponentark!E64)","v":{"$error":"#REF!"}},{"$f":"IF(C14=\"\",\"\",Komponentark!C64)","v":{"$error":"#REF!"}},{"$f":"IF(C14=\"\",\"\",Komponentark!G64)","v":{"$error":"#REF!"}},{"$error":"#REF!"},{"$f":"IF(C14=\"\",\"\",Komponentark!F64)","v":{"$error":"#REF!"}},null,null,{"$error":"#REF!"},null,null,null,null,null,null,null,null,null,4,{"$error":"#REF!"}]
[null,null,{"$f":"IF(Komponentark!C65=\"\",\"\",Komponentark!D65)","v":{"$error":"#REF!"}},{"$f":"IF(C15=\"\",\"\",Komponentark!E65)","v":{"$error":"#REF!"}},{"$f":"IF(C15=\"\",\"\",Komponentark!C65)","v":{"$error":"#REF!"}},{"$f":"IF(C15=\"\",\"\",Komponentark!G65)","v":{"$error":"#REF!"}},{"$error":"#REF!"},{"$f":"IF(C15=\"\",\"\",Komponentark!F65)","v":{"$error":"#REF!"}},null,null,{"$error":"#REF!"},null,null,null,null,null,null,null,null,null,5,{"$error":"#REF!"}]
[null,null,{"$f":"IF(Komponentark!C66=\"\",\"\",Komponentark!D66)","v":{"$error":"#REF!"}},{"$f":"IF(C16=\"\",\"\",Komponentark!E66)","v":{"$error":"#REF!"}},{"$f":"IF(C16=\"\",\"\",Komponentark!C66)","v":{"$error":"#REF!"}},{"$f":"IF(C16=\"\",\"\",Komponentark!G66)","v":{"$error":"#REF!"}},{"$error":"#REF!"},{"$f":"IF(C16=\"\",\"\",Komponentark!F66)","v":{"$error":"#REF!"}},null,null,{"$error":"#REF!"},null,null,null,null,null,null,null,null,null,5,{"$error":"#REF!"}]
[null,null,{"$f":"IF(Komponentark!C67=\"\",\"\",Komponentark!D67)","v":{"$error":"#REF!"}},{"$f":"IF(C17=\"\",\"\",Komponentark!E67)","v":{"$error":"#REF!"}},{"$f":"IF(C17=\"\",\"\",Komponentark!C67)","v":{"$error":"#REF!"}},{"$f":"IF(C17=\"\",\"\",Komponentark!G67)","v":{"$error":"#REF!"}},{"$error":"#REF!"},{"$f":"IF(C17=\"\",\"\",Komponentark!F67)","v":{"$error":"#REF!"}},null,null,{"$error":"#REF!"},null,null,null,null,null,null,null,null,null,6,{"$error":"#REF!"}]
[null,null,{"$f":"IF(Komponentark!C68=\"\",\"\",Komponentark!D68)","v":{"$error":"#REF!"}},{"$f":"IF(C18=\"\",\"\",Komponentark!E68)","v":{"$error":"#REF!"}},{"$f":"IF(C18=\"\",\"\",Komponentark!C68)","v":{"$error":"#REF!"}},{"$f":"IF(C18=\"\",\"\",Komponentark!G68)","v":{"$error":"#REF!"}},{"$error":"#REF!"},{"$f":"IF(C18=\"\",\"\",Komponentark!F68)","v":{"$error":"#REF!"}},null,null,{"$error":"#REF!"},null,null,null,null,null,null,null,null,null,7,{"$error":"#REF!"}]
[null,null,{"$f":"IF(Komponentark!C69=\"\",\"\",Komponentark!D69)","v":{"$error":"#REF!"}},{"$f":"IF(C19=\"\",\"\",Komponentark!E69)","v":{"$error":"#REF!"}},{"$f":"IF(C19=\"\",\"\",Komponentark!C69)","v":{"$error":"#REF!"}},{"$f":"IF(C19=\"\",\"\",Komponentark!G69)","v":{"$error":"#REF!"}},{"$error":"#REF!"},{"$f":"IF(C19=\"\",\"\",Komponentark!F69)","v":{"$error":"#REF!"}},null,null,{"$error":"#REF!"},null,null,null,null,null,null,null,null,null,8,{"$error":"#REF!"}]
[null,null,{"$f":"IF(Komponentark!C70=\"\",\"\",Komponentark!D70)","v":{"$error":"#REF!"}},{"$f":"IF(C20=\"\",\"\",Komponentark!E70)","v":{"$error":"#REF!"}},{"$f":"IF(C20=\"\",\"\",Komponentark!C70)","v":{"$error":"#REF!"}},{"$f":"IF(C20=\"\",\"\",Komponentark!G70)","v":{"$error":"#REF!"}},{"$error":"#REF!"},{"$f":"IF(C20=\"\",\"\",Komponentark!F70)","v":{"$error":"#REF!"}},null,null,{"$error":"#REF!"},null,null,null,null,null,null,null,null,null,9,{"$error":"#REF!"}]
[null,null,{"$f":"IF(Komponentark!C71=\"\",\"\",Komponentark!D71)","v":{"$error":"#REF!"}},{"$f":"IF(C21=\"\",\"\",Komponentark!E71)","v":{"$error":"#REF!"}},{"$f":"IF(C21=\"\",\"\",Komponentark!C71)","v":{"$error":"#REF!"}},{"$f":"IF(C21=\"\",\"\",Komponentark!G71)","v":{"$error":"#REF!"}},{"$error":"#REF!"},{"$f":"IF(C21=\"\",\"\",Komponentark!F71)","v":{"$error":"#REF!"}},null,null,{"$error":"#REF!"},null,null,null,null,null,null,null,null,null,10,{"$error":"#REF!"}]
[null,null,{"$f":"IF(Komponentark!C72=\"\",\"\",Komponentark!D72)","v":{"$error":"#REF!"}},{"$f":"IF(C22=\"\",\"\",Komponentark!E72)","v":{"$error":"#REF!"}},{"$f":"IF(C22=\"\",\"\",Komponentark!C72)","v":{"$error":"#REF!"}},{"$f":"IF(C22=\"\",\"\",Komponentark!G72)","v":{"$error":"#REF!"}},{"$error":"#REF!"},{"$f":"IF(C22=\"\",\"\",Komponentark!F72)","v":{"$error":"#REF!"}},null,null,{"$error":"#REF!"},null,null,null,null,null,null,null,null,null,11,{"$error":"#REF!"}]
[null,null,{"$f":"IF(Komponentark!C73=\"\",\"\",Komponentark!D73)","v":{"$error":"#REF!"}},{"$f":"IF(C23=\"\",\"\",Komponentark!E73)","v":{"$error":"#REF!"}},{"$f":"IF(C23=\"\",\"\",Komponentark!C73)","v":{"$error":"#REF!"}},{"$f":"IF(C23=\"\",\"\",Komponentark!G73)","v":{"$error":"#REF!"}},{"$error":"#REF!"},{"$f":"IF(C23=\"\",\"\",Komponentark!F73)","v":{"$error":"#REF!"}},null,null,{"$error":"#REF!"},null,null,null,null,null,null,null,null,null,12,{"$error":"#REF!"}]
[null,null,{"$f":"IF(Komponentark!C74=\"\",\"\",Komponentark!D74)","v":{"$error":"#REF!"}},{"$f":"IF(C24=\"\",\"\",Komponentark!E74)","v":{"$error":"#REF!"}},{"$f":"IF(C24=\"\",\"\",Komponentark!C74)","v":{"$error":"#REF!"}},{"$f":"IF(C24=\"\",\"\",Komponentark!G74)","v":{"$error":"#REF!"}},{"$error":"#REF!"},{"$f":"IF(C24=\"\",\"\",Komponentark!F74)","v":{"$error":"#REF!"}},null,null,{"$error":"#REF!"},null,null,null,null,null,null,null,null,null,13,{"$error":"#REF!"}]
[null,null,{"$f":"IF(Komponentark!C75=\"\",\"\",Komponentark!D75)","v":{"$error":"#REF!"}},{"$f":"IF(C25=\"\",\"\",Komponentark!E75)","v":{"$error":"#REF!"}},{"$f":"IF(C25=\"\",\"\",Komponentark!C75)","v":{"$error":"#REF!"}},{"$f":"IF(C25=\"\",\"\",Komponentark!G75)","v":{"$error":"#REF!"}},{"$error":"#REF!"},{"$f":"IF(C25=\"\",\"\",Komponentark!F75)","v":{"$error":"#REF!"}},null,null,{"$error":"#REF!"},null,null,null,null,null,null,null,null,null,14,{"$error":"#REF!"}]
[null,null,{"$f":"IF(Komponentark!C76=\"\",\"\",Komponentark!D76)","v":{"$error":"#REF!"}},{"$f":"IF(C26=\"\",\"\",Komponentark!E76)","v":{"$error":"#REF!"}},{"$f":"IF(C26=\"\",\"\",Komponentark!C76)","v":{"$error":"#REF!"}},{"$f":"IF(C26=\"\",\"\",Komponentark!G76)","v":{"$error":"#REF!"}},{"$error":"#REF!"},{"$f":"IF(C26=\"\",\"\",Komponentark!F76)","v":{"$error":"#REF!"}},null,null,{"$error":"#REF!"},null,null,null,null,null,null,null,null,null,15,{"$error":"#REF!"}]
[null,null,{"$f":"IF(Komponentark!C77=\"\",\"\",Komponentark!D77)","v":{"$error":"#REF!"}},{"$f":"IF(C27=\"\",\"\",Komponentark!E77)","v":{"$error":"#REF!"}},{"$f":"IF(C27=\"\",\"\",Komponentark!C77)","v":{"$error":"#REF!"}},{"$f":"IF(C27=\"\",\"\",Komponentark!G77)","v":{"$error":"#REF!"}},{"$error":"#REF!"},{"$f":"IF(C27=\"\",\"\",Komponentark!F77)","v":{"$error":"#REF!"}},null,null,{"$error":"#REF!"},null,null,null,null,null,null,null,null,null,16,{"$error":"#REF!"}]
[null,null,{"$f":"IF(Komponentark!C78=\"\",\"\",Komponentark!D78)","v":{"$error":"#REF!"}},{"$f":"IF(C28=\"\",\"\",Komponentark!E78)","v":{"$error":"#REF!"}},{"$f":"IF(C28=\"\",\"\",Komponentark!C78)","v":{"$error":"#REF!"}},{"$f":"IF(C28=\"\",\"\",Komponentark!G78)","v":{"$error":"#REF!"}},{"$error":"#REF!"},{"$f":"IF(C28=\"\",\"\",Komponentark!F78)","v":{"$error":"#REF!"}},null,null,{"$error":"#REF!"},null,null,null,null,null,null,null,null,null,17,{"$error":"#REF!"}]
[null,null,{"$f":"IF(Komponentark!C79=\"\",\"\",Komponentark!D79)","v":{"$error":"#REF!"}},{"$f":"IF(C29=\"\",\"\",Komponentark!E79)","v":{"$error":"#REF!"}},{"$f":"IF(C29=\"\",\"\",Komponentark!C79)","v":{"$error":"#REF!"}},{"$f":"IF(C29=\"\",\"\",Komponentark!G79)","v":{"$error":"#REF!"}},{"$error":"#REF!"},{"$f":"IF(C29=\"\",\"\",Komponentark!F79)","v":{"$error":"#REF!"}},null,null,{"$error":"#REF!"},null,null,null,null,null,null,null,null,null,18,{"$error":"#REF!"}]
[null,null,{"$f":"IF(Komponentark!C80=\"\",\"\",Komponentark!D80)","v":{"$error":"#REF!"}},{"$f":"IF(C30=\"\",\"\",Komponentark!E80)","v":{"$error":"#REF!"}},{"$f":"IF(C30=\"\",\"\",Komponentark!C80)","v":{"$error":"#REF!"}},{"$f":"IF(C30=\"\",\"\",Komponentark!G80)","v":{"$error":"#REF!"}},{"$error":"#REF!"},{"$f":"IF(C30=\"\",\"\",Komponentark!F80)","v":{"$error":"#REF!"}},null,null,{"$error":"#REF!"},null,null,null,null,null,null,null,null,null,19,{"$error":"#REF!"}]
[null,null,{"$f":"IF(Komponentark!C81=\"\",\"\",Komponentark!D81)","v":{"$error":"#REF!"}},{"$f":"IF(C31=\"\",\"\",Komponentark!E81)","v":{"$error":"#REF!"}},{"$f":"IF(C31=\"\",\"\",Komponentark!C81)","v":{"$error":"#REF!"}},{"$f":"IF(C31=\"\",\"\",Komponentark!G81)","v":{"$error":"#REF!"}},{"$error":"#REF!"},{"$f":"IF(C31=\"\",\"\",Komponentark!F81)","v":{"$error":"#REF!"}},null,null,{"$error":"#REF!"},null,null,null,null,null,null,null,null,null,20,{"$error":"#REF!"}]
[null,null,{"$f":"IF(Komponentark!C82=\"\",\"\",Komponentark!D82)","v":{"$error":"#REF!"}},{"$f":"IF(C32=\"\",\"\",Komponentark!E82)","v":{"$error":"#REF!"}},{"$f":"IF(C32=\"\",\"\",Komponentark!C82)","v":{"$error":"#REF!"}},{"$f":"IF(C32=\"\",\"\",Komponentark!G82)","v":{"$error":"#REF!"}},{"$error":"#REF!"},{"$f":"IF(C32=\"\",\"\",Komponentark!F82)","v":{"$error":"#REF!"}},null,null,{"$error":"#REF!"},null,null,null,null,null,null,null,null,null,21,{"$error":"#REF!"}]
[null,null,{"$f":"IF(Komponentark!C83=\"\",\"\",Komponentark!D83)","v":{"$error":"#REF!"}},{"$f":"IF(C33=\"\",\"\",Komponentark!E83)","v":{"$error":"#REF!"}},{"$f":"IF(C33=\"\",\"\",Komponentark!C83)","v":{"$error":"#REF!"}},{"$f":"IF(C33=\"\",\"\",Komponentark!G83)","v":{"$error":"#REF!"}},{"$error":"#REF!"},{"$f":"IF(C33=\"\",\"\",Komponentark!F83)","v":{"$error":"#REF!"}},null,null,{"$error":"#REF!"},null,null,null,null,null,null,null,null,null,22,{"$error":"#REF!"}]
[null,null,{"$f":"IF(Komponentark!C84=\"\",\"\",Komponentark!D84)","v":{"$error":"#REF!"}},{"$f":"IF(C34=\"\",\"\",Komponentark!E84)","v":{"$error":"#REF!"}},{"$f":"IF(C34=\"\",\"\",Komponentark!C84)","v":{"$error":"#REF!"}},{"$f":"IF(C34=\"\",\"\",Komponentark!G84)","v":{"$error":"#REF!"}},{"$error":"#REF!"},{"$f":"IF(C34=\"\",\"\",Komponentark!F84)","v":{"$error":"#REF!"}},null,null,{"$error":"#REF!"},null,null,null,null,null,null,null,null,null,23,{"$error":"#REF!"}]
[null,null,{"$f":"IF(Komponentark!C85=\"\",\"\",Komponentark!D85)","v":{"$error":"#REF!"}},{"$f":"IF(C35=\"\",\"\",Komponentark!E85)","v":{"$error":"#REF!"}},{"$f":"IF(C35=\"\",\"\",Komponentark!C85)","v":{"$error":"#REF!"}},{"$f":"IF(C35=\"\",\"\",Komponentark!G85)","v":{"$error":"#REF!"}},{"$error":"#REF!"},{"$f":"IF(C35=\"\",\"\",Komponentark!F85)","v":{"$error":"#REF!"}},null,null,{"$error":"#REF!"},null,null,null,null,null,null,null,null,null,24,{"$error":"#REF!"}]
[null,null,{"$f":"IF(Komponentark!C86=\"\",\"\",Komponentark!D86)","v":{"$error":"#REF!"}},{"$f":"IF(C36=\"\",\"\",Komponentark!E86)","v":{"$error":"#REF!"}},{"$f":"IF(C36=\"\",\"\",Komponentark!C86)","v":{"$error":"#REF!"}},{"$f":"IF(C36=\"\",\"\",Komponentark!G86)","v":{"$error":"#REF!"}},{"$error":"#REF!"},{"$f":"IF(C36=\"\",\"\",Komponentark!F86)","v":{"$error":"#REF!"}},null,null,{"$error":"#REF!"},null,null,null,null,null,null,null,null,null,25,{"$error":"#REF!"}]
[null,null,{"$f":"IF(Komponentark!C87=\"\",\"\",Komponentark!D87)","v":{"$error":"#REF!"}},{"$f":"IF(C37=\"\",\"\",Komponentark!E87)","v":{"$error":"#REF!"}},{"$f":"IF(C37=\"\",\"\",Komponentark!C87)","v":{"$error":"#REF!"}},{"$f":"IF(C37=\"\",\"\",Komponentark!G87)","v":{"$error":"#REF!"}},{"$error":"#REF!"},{"$f":"IF(C37=\"\",\"\",Komponentark!F87)","v":{"$error":"#REF!"}},null,null,{"$error":"#REF!"},null,null,null,null,null,null,null,null,null,26,{"$error":"#REF!"}]
[null,null,{"$f":"IF(Komponentark!C88=\"\",\"\",Komponentark!D88)","v":{"$error":"#REF!"}},{"$f":"IF(C38=\"\",\"\",Komponentark!E88)","v":{"$error":"#REF!"}},{"$f":"IF(C38=\"\",\"\",Komponentark!C88)","v":{"$error":"#REF!"}},{"$f":"IF(C38=\"\",\"\",Komponentark!G88)","v":{"$error":"#REF!"}},{"$error":"#REF!"},{"$f":"IF(C38=\"\",\"\",Komponentark!F88)","v":{"$error":"#REF!"}},null,null,{"$error":"#REF!"},null,null,null,null,null,null,null,null,null,27,{"$error":"#REF!"}]
[null,null,{"$f":"IF(Komponentark!C89=\"\",\"\",Komponentark!D89)","v":{"$error":"#REF!"}},{"$f":"IF(C39=\"\",\"\",Komponentark!E89)","v":{"$error":"#REF!"}},{"$f":"IF(C39=\"\",\"\",Komponentark!C89)","v":{"$error":"#REF!"}},{"$f":"IF(C39=\"\",\"\",Komponentark!G89)","v":{"$error":"#REF!"}},{"$error":"#REF!"},{"$f":"IF(C39=\"\",\"\",Komponentark!F89)","v":{"$error":"#REF!"}},null,null,{"$error":"#REF!"},null,null,null,null,null,null,null,null,null,28,{"$error":"#REF!"}]
[null,null,{"$f":"IF(Komponentark!C90=\"\",\"\",Komponentark!D90)","v":{"$error":"#REF!"}},{"$f":"IF(C40=\"\",\"\",Komponentark!E90)","v":{"$error":"#REF!"}},{"$f":"IF(C40=\"\",\"\",Komponentark!C90)","v":{"$error":"#REF!"}},{"$f":"IF(C40=\"\",\"\",Komponentark!G90)","v":{"$error":"#REF!"}},{"$error":"#REF!"},{"$f":"IF(C40=\"\",\"\",Komponentark!F90)","v":{"$error":"#REF!"}},null,null,{"$error":"#REF!"},null,null,null,null,null,null,null,null,null,29,{"$error":"#REF!"}]
[null,null,{"$f":"IF(Komponentark!C91=\"\",\"\",Komponentark!D91)","v":{"$error":"#REF!"}},{"$f":"IF(C41=\"\",\"\",Komponentark!E91)","v":{"$error":"#REF!"}},{"$f":"IF(C41=\"\",\"\",Komponentark!C91)","v":{"$error":"#REF!"}},{"$f":"IF(C41=\"\",\"\",Komponentark!G91)","v":{"$error":"#REF!"}},{"$error":"#REF!"},{"$f":"IF(C41=\"\",\"\",Komponentark!F91)","v":{"$error":"#REF!"}},null,null,{"$error":"#REF!"},null,null,null,null,null,null,null,null,null,30,{"$error":"#REF!"}]
[null,null,{"$f":"IF(Komponentark!C92=\"\",\"\",Komponentark!D92)","v":{"$error":"#REF!"}},{"$f":"IF(C42=\"\",\"\",Komponentark!E92)","v":{"$error":"#REF!"}},{"$f":"IF(C42=\"\",\"\",Komponentark!C92)","v":{"$error":"#REF!"}},{"$f":"IF(C42=\"\",\"\",Komponentark!G92)","v":{"$error":"#REF!"}},{"$error":"#REF!"},{"$f":"IF(C42=\"\",\"\",Komponentark!F92)","v":{"$error":"#REF!"}},null,null,{"$error":"#REF!"},null,null,null,null,null,null,null,null,null,31,{"$error":"#REF!"}]
[null,null,{"$f":"IF(Komponentark!C94=\"\",\"\",Komponentark!D94)","v":{"$error":"#REF!"}},{"$f":"IF(C43=\"\",\"\",Komponentark!E94)","v":{"$error":"#REF!"}},{"$f":"IF(C43=\"\",\"\",Komponentark!C94)","v":{"$error":"#REF!"}},{"$f":"IF(C43=\"\",\"\",Komponentark!G94)","v":{"$error":"#REF!"}},{"$error":"#REF!"},{"$f":"IF(C43=\"\",\"\",Komponentark!F94)","v":{"$error":"#REF!"}},null,null,{"$error":"#REF!"},null,null,null,null,null,null,null,null,null,33,{"$error":"#REF!"}]
[null,null,{"$f":"IF(Komponentark!C95=\"\",\"\",Komponentark!D95)","v":{"$error":"#REF!"}},{"$f":"IF(C44=\"\",\"\",Komponentark!E95)","v":{"$error":"#REF!"}},{"$f":"IF(C44=\"\",\"\",Komponentark!C95)","v":{"$error":"#REF!"}},{"$f":"IF(C44=\"\",\"\",Komponentark!G95)","v":{"$error":"#REF!"}},{"$error":"#REF!"},{"$f":"IF(C44=\"\",\"\",Komponentark!F95)","v":{"$error":"#REF!"}},null,null,{"$error":"#REF!"},null,null,null,null,null,null,null,null,null,34,{"$error":"#REF!"}]
[null,null,{"$f":"IF(Komponentark!C93=\"\",\"\",Komponentark!D93)","v":""},{"$f":"IF(C45=\"\",\"\",Komponentark!E93)","v":""},{"$f":"IF(C45=\"\",\"\",Komponentark!C93)","v":""},{"$f":"IF(C45=\"\",\"\",Komponentark!G93)","v":""},{"$f":"IF(E45=\"\",\"\",SUM(E45*F45))","v":""},{"$f":"IF(C45=\"\",\"\",Komponentark!F93)","v":""},null,null,null,null,null,null,null,null,null,null,null,null,null,{"$f":"IF(E45=\"\",\"\",\"1\")","v":""}]
[null,null,"Total",null,{"$f":"SUM(E14:E45)","v":{"$error":"#REF!"}},null,{"$f":"SUM(G11:G45)","v":{"$error":"#REF!"}}]
[]
[]
[]
[]
[]
[]
[]
[]
[]
[null,null,"Bestillingsark"]
[]
[null,null,"Antal ","Varenr.","Varer","EAN Nr.","Listepris","Total",null,"Listepris"]
[]
[null,null,{"$f":"IF('DALI-Dimensionering'!E5+'DALI-Dimensionering'!J5+'DALI-Dimensionering'!O5+'DALI-Dimensionering'!T5+'DALI-Dimensionering'!#REF!+'DALI-Dimensionering'!#REF!>0,'DALI-Dimensionering'!E5+'DALI-Dimensionering'!J5+'DALI-Dimensionering'!O5+'DALI-Dimensionering'!T5+'DALI-Dimensionering'!#REF!+'DALI-Dimensionering'!#REF!,\"\")","v":{"$error":"#REF!"}},{"$f":"IF(C60=\"\",\"\",'DALI-Dimensionering'!Z5)","v":{"$error":"#REF!"}},{"$f":"IF(C60=\"\",\"\",'DALI-Dimensionering'!B5)","v":{"$error":"#REF!"}},null,{"$f":"IF(C60=\"\",\"\",J60)","v":{"$error":"#REF!"}},{"$f":"IF(+G60=\"\",\"\",G60*C60)","v":{"$error":"#REF!"}}]
[null,null,{"$f":"IF('DALI-Dimensionering'!#REF!+'DALI-Dimensionering'!#REF!+'DALI-Dimensionering'!#REF!+'DALI-Dimensionering'!#REF!+'DALI-Dimensionering'!#REF!+'DALI-Dimensionering'!#REF!>0,'DALI-Dimensionering'!#REF!+'DALI-Dimensionering'!#REF!+'DALI-Dimensionering'!#REF!+'DALI-Dimensionering'!#REF!+'DALI-Dimensionering'!#REF!+'DALI-Dimensionering'!#REF!,\"\")","v":{"$error":"#REF!"}},{"$f":"IF(C61=\"\",\"\",'DALI-Dimensionering'!#REF!)","v":{"$error":"#REF!"}},{"$f":"IF(C61=\"\",\"\",'DALI-Dimensionering'!#REF!)","v":{"$error":"#REF!"}},"Kontakt Vanpee for type.",{"$f":"IF(C61=\"\",\"\",J61)","v":{"$error":"#REF!"}},{"$f":"IF(+G61=\"\",\"\",G61*C61)","v":{"$error":"#REF!"}},null,1930.42,1]
[null,null,{"$f":"IF('DALI-Dimensionering'!#REF!+'DALI-Dimensionering'!#REF!+'DALI-Dimensionering'!#REF!+'DALI-Dimensionering'!#REF!+'DALI-Dimensionering'!#REF!+'DALI-Dimensionering'!#REF!>0,'DALI-Dimensionering'!#REF!+'DALI-Dimensionering'!#REF!+'DALI-Dimensionering'!#REF!+'DALI-Dimensionering'!#REF!+'DALI-Dimensionering'!#REF!+'DALI-Dimensionering'!#REF!,\"\")","v":{"$error":"#REF!"}},{"$f":"IF(C62=\"\",\"\",'DALI-Dimensionering'!#REF!)","v":{"$error":"#REF!"}},{"$f":"IF(C62=\"\",\"\",'DALI-Dimensionering'!#REF!)","v":{"$error":"#REF!"}},{"$f":"IF(C62=\"\",\"\",'DALI-Dimensionering'!#REF!)","v":{"$error":"#REF!"}},{"$f":"IF(C62=\"\",\"\",J62)","v":{"$error":"#REF!"}},{"$f":"IF(+G62=\"\",\"\",G62*C62)","v":{"$error":"#REF!"}},null,873.12,2]
[null,null,{"$f":"IF('DALI-Dimensionering'!#REF!+'DALI-Dimensionering'!#REF!+'DALI-Dimensionering'!#REF!+'DALI-Dimensionering'!#REF!+'DALI-Dimensionering'!#REF!+'DALI-Dimensionering'!#REF!>0,'DALI-Dimensionering'!#REF!+'DALI-Dimensionering'!#REF!+'DALI-Dimensionering'!#REF!+'DALI-Dimensionering'!#REF!+'DALI-Dimensionering'!#REF!+'DALI-Dimensionering'!#REF!,\"\")","v":{"$error":"#REF!"}},{"$f":"IF(C63=\"\",\"\",'DALI-Dimensionering'!#REF!)","v":{"$error":"#REF!"}},{"$f":"IF(C63=\"\",\"\",'DALI-Dimensionering'!#REF!)","v":{"$error":"#REF!"}},{"$f":"IF(C63=\"\",\"\",'DALI-Dimensionering'!#REF!)","v":{"$error":"#REF!"}},{"$error":"#REF!"},{"$error":"#REF!"},null,1200.54,3]
[null,null,{"$f":"IF('DALI-Dimensionering'!#REF!+'DALI-Dimensionering'!#REF!+'DALI-Dimensionering'!#REF!+'DALI-Dimensionering'!#REF!+'DALI-Dimensionering'!#REF!+'DALI-Dimensionering'!#REF!>0,'DALI-Dimensionering'!#REF!+'DALI-Dimensionering'!#REF!+'DALI-Dimensionering'!#REF!+'DALI-Dimensionering'!#REF!+'DALI-Dimensionering'!#REF!+'DALI-Dimensionering'!#REF!,\"\")","v":{"$error":"#REF!"}},{"$f":"IF(C64=\"\",\"\",'DALI-Dimensionering'!#REF!)","v":{"$error":"#REF!"}},{"$f":"IF(C64=\"\",\"\",'DALI-Dimensionering'!#REF!)","v":{"$error":"#REF!"}},{"$f":"IF(C64=\"\",\"\",'DALI-Dimensionering'!#REF!)","v":{"$error":"#REF!"}},{"$error":"#REF!"},{"$error":"#REF!"},null,1909.95,4]
[null,null,{"$f":"IF('DALI-Dimensionering'!#REF!+'DALI-Dimensionering'!#REF!+'DALI-Dimensionering'!#REF!+'DALI-Dimensionering'!#REF!+'DALI-Dimensionering'!#REF!+'DALI-Dimensionering'!#REF!>0,'DALI-Dimensionering'!#REF!+'DALI-Dimensionering'!#REF!+'DALI-Dimensionering'!#REF!+'DALI-Dimensionering'!#REF!+'DALI-Dimensionering'!#REF!+'DALI-Dimensionering'!#REF!,\"\")","v":{"$error":"#REF!"}},{"$f":"IF(C65=\"\",\"\",'DALI-Dimensionering'!#REF!)","v":{"$error":"#REF!"}},{"$f":"IF(C65=\"\",\"\",'DALI-Dimensionering'!#REF!)","v":{"$error":"#REF!"}},{"$f":"IF(C65=\"\",\"\",'DALI-Dimensionering'!#REF!)","v":{"$error":"#REF!"}},{"$error":"#REF!"},{"$error":"#REF!"},null,2319.23,5]
[null,null,{"$f":"IF('DALI-Dimensionering'!#REF!+'DALI-Dimensionering'!#REF!+'DALI-Dimensionering'!#REF!+'DALI-Dimensionering'!#REF!+'DALI-Dimensionering'!#REF!+'DALI-Dimensionering'!#REF!>0,'DALI-Dimensionering'!#REF!+'DALI-Dimensionering'!#REF!+'DALI-Dimensionering'!#REF!+'DALI-Dimensionering'!#REF!+'DALI-Dimensionering'!#REF!+'DALI-Dimensionering'!#REF!,\"\")","v":{"$error":"#REF!"}},{"$f":"IF(C66=\"\",\"\",'DALI-Dimensionering'!#REF!)","v":{"$error":"#REF!"}},{"$f":"IF(C66=\"\",\"\",'DALI-Dimensionering'!#REF!)","v":{"$error":"#REF!"}},{"$f":"IF(C66=\"\",\"\",'DALI-Dimensionering'!#REF!)","v":{"$error":"#REF!"}},{"$error":"#REF!"},{"$error":"#REF!"},null,2592.08,6]
[null,null,{"$f":"IF('DALI-Dimensionering'!#REF!+'DALI-Dimensionering'!#REF!+'DALI-Dimensionering'!#REF!+'DALI-Dimensionering'!#REF!+'DALI-Dimensionering'!#REF!+'DALI-Dimensionering'!#REF!>0,'DALI-Dimensionering'!#REF!+'DALI-Dimensionering'!#REF!+'DALI-Dimensionering'!#REF!+'DALI-Dimensionering'!#REF!+'DALI-Dimensionering'!#REF!+'DALI-Dimensionering'!#REF!,\"\")","v":{"$error":"#REF!"}},{"$f":"IF(C67=\"\",\"\",'DALI-Dimensionering'!#REF!)","v":{"$error":"#REF!"}},{"$f":"IF(C67=\"\",\"\",'DALI-Dimensionering'!#REF!)","v":{"$error":"#REF!"}},{"$f":"IF(C67=\"\",\"\",'DALI-Dimensionering'!#REF!)","v":{"$error":"#REF!"}},{"$error":"#REF!"},{"$error":"#REF!"},null,1555.25,7]
[null,null,{"$f":"IF('DALI-Dimensionering'!#REF!+'DALI-Dimensionering'!#REF!+'DALI-Dimensionering'!#REF!+'DALI-Dimensionering'!#REF!+'DALI-Dimensionering'!#REF!+'DALI-Dimensionering'!#REF!>0,'DALI-Dimensionering'!#REF!+'DALI-Dimensionering'!#REF!+'DALI-Dimensionering'!#REF!+'DALI-Dimensionering'!#REF!+'DALI-Dimensionering'!#REF!+'DALI-Dimensionering'!#REF!,\"\")","v":{"$error":"#REF!"}},{"$f":"IF(C68=\"\",\"\",'DALI-Dimensionering'!#REF!)","v":{"$error":"#REF!"}},{"$f":"IF(C68=\"\",\"\",'DALI-Dimensionering'!#REF!)","v":{"$error":"#REF!"}},"Afventer nr.",{"$f":"IF(C68=\"\",\"\",J68)","v":{"$error":"#REF!"}},{"$f":"IF(+G68=\"\",\"\",G68*C68)","v":{"$error":"#REF!"}},null,873.12,8]
[null,null,{"$f":"IF('DALI-Dimensionering'!#REF!+'DALI-Dimensionering'!#REF!+'DALI-Dimensionering'!#REF!+'DALI-Dimensionering'!#REF!+'DALI-Dimensionering'!#REF!+'DALI-Dimensionering'!#REF!>0,'DALI-Dimensionering'!#REF!+'DALI-Dimensionering'!#REF!+'DALI-Dimensionering'!#REF!+'DALI-Dimensionering'!#REF!+'DALI-Dimensionering'!#REF!+'DALI-Dimensionering'!#REF!,\"\")","v":{"$error":"#REF!"}},{"$f":"IF(C69=\"\",\"\",'DALI-Dimensionering'!#REF!)","v":{"$error":"#REF!"}},{"$f":"IF(C69=\"\",\"\",'DALI-Dimensionering'!#REF!)","v":{"$error":"#REF!"}},{"$f":"IF(C69=\"\",\"\",'DALI-Dimensionering'!#REF!)","v":{"$error":"#REF!"}},{"$error":"#REF!"},{"$error":"#REF!"},null,1200.54,9]
[null,null,{"$f":"IF('DALI-Dimensionering'!#REF!+'DALI-Dimensionering'!#REF!+'DALI-Dimensionering'!#REF!+'DALI-Dimensionering'!#REF!+'DALI-Dimensionering'!#REF!+'DALI-Dimensionering'!#REF!>0,'DALI-Dimensionering'!#REF!+'DALI-Dimensionering'!#REF!+'DALI-Dimensionering'!#REF!+'DALI-Dimensionering'!#REF!+'DALI-Dimensionering'!#REF!+'DALI-Dimensionering'!#REF!,\"\")","v":{"$error":"#REF!"}},{"$f":"IF(C70=\"\",\"\",'DALI-Dimensionering'!#REF!)","v":{"$error":"#REF!"}},{"$f":"IF(C70=\"\",\"\",'DALI-Dimensionering'!#REF!)","v":{"$error":"#REF!"}},"Afventer nr.",{"$error":"#REF!"},{"$error":"#REF!"},null,2182.8000000000002,10]
[null,null,{"$f":"IF('DALI-Dimensionering'!#REF!+'DALI-Dimensionering'!#REF!+'DALI-Dimensionering'!#REF!+'DALI-Dimensionering'!#REF!+'DALI-Dimensionering'!#REF!+'DALI-Dimensionering'!#REF!>0,'DALI-Dimensionering'!#REF!+'DALI-Dimensionering'!#REF!+'DALI-Dimensionering'!#REF!+'DALI-Dimensionering'!#REF!+'DALI-Dimensionering'!#REF!+'DALI-Dimensionering'!#REF!,\"\")","v":{"$error":"#REF!"}},{"$f":"IF(C71=\"\",\"\",'DALI-Dimensionering'!#REF!)","v":{"$error":"#REF!"}},{"$f":"IF(C71=\"\",\"\",'DALI-Dimensionering'!#REF!)","v":{"$error":"#REF!"}},{"$f":"IF(C71=\"\",\"\",'DALI-Dimensionering'!#REF!)","v":{"$error":"#REF!"}},{"$f":"IF(C71=\"\",\"\",J71)","v":{"$error":"#REF!"}},{"$f":"IF(+G71=\"\",\"\",G71*C71)","v":{"$error":"#REF!"}},null,4774.88,11]
[null,null,{"$f":"IF('DALI-Dimensionering'!#REF!+'DALI-Dimensionering'!#REF!+'DALI-Dimensionering'!#REF!+'DALI-Dimensionering'!#REF!+'DALI-Dimensionering'!#REF!+'DALI-Dimensionering'!#REF!>0,'DALI-Dimensionering'!#REF!+'DALI-Dimensionering'!#REF!+'DALI-Dimensionering'!#REF!+'DALI-Dimensionering'!#REF!+'DALI-Dimensionering'!#REF!+'DALI-Dimensionering'!#REF!,\"\")","v":{"$error":"#REF!"}},{"$f":"IF(C72=\"\",\"\",'DALI-Dimensionering'!#REF!)","v":{"$error":"#REF!"}},{"$f":"IF(C72=\"\",\"\",'DALI-Dimensionering'!#REF!)","v":{"$error":"#REF!"}},{"$f":"IF(C72=\"\",\"\",'DALI-Dimensionering'!#REF!)","v":{"$error":"#REF!"}},{"$error":"#REF!"},{"$error":"#REF!"},null,6821.25,12]
[null,null,{"$f":"IF('DALI-Dimensionering'!#REF!+'DALI-Dimensionering'!#REF!+'DALI-Dimensionering'!#REF!+'DALI-Dimensionering'!#REF!+'DALI-Dimensionering'!#REF!+'DALI-Dimensionering'!#REF!>0,'DALI-Dimensionering'!#REF!+'DALI-Dimensionering'!#REF!+'DALI-Dimensionering'!#REF!+'DALI-Dimensionering'!#REF!+'DALI-Dimensionering'!#REF!+'DALI-Dimensionering'!#REF!,\"\")","v":{"$error":"#REF!"}},{"$f":"IF(C73=\"\",\"\",'DALI-Dimensionering'!#REF!)","v":{"$error":"#REF!"}},{"$f":"IF(C73=\"\",\"\",'DALI-Dimensionering'!#REF!)","v":{"$error":"#REF!"}},{"$f":"IF(C73=\"\",\"\",'DALI-Dimensionering'!#REF!)","v":{"$error":"#REF!"}},{"$error":"#REF!"},{"$error":"#REF!"},null,8185.5,13]
[null,null,{"$f":"IF('DALI-Dimensionering'!E47+'DALI-Dimensionering'!J47+'DALI-Dimensionering'!O47+'DALI-Dimensionering'!T47+'DALI-Dimensionering'!#REF!+'DALI-Dimensionering'!#REF!>0,'DALI-Dimensionering'!E47+'DALI-Dimensionering'!J47+'DALI-Dimensionering'!O47+'DALI-Dimensionering'!T47+'DALI-Dimensionering'!#REF!+'DALI-Dimensionering'!#REF!,\"\")","v":{"$error":"#REF!"}},{"$f":"IF(C74=\"\",\"\",'DALI-Dimensionering'!Z47)","v":{"$error":"#REF!"}},{"$f":"IF(C74=\"\",\"\",'DALI-Dimensionering'!B47)","v":{"$error":"#REF!"}},{"$f":"IF(C74=\"\",\"\",'DALI-Dimensionering'!Y47)","v":{"$error":"#REF!"}},{"$error":"#REF!"},{"$error":"#REF!"},null,4092.75,14]
[null,null,{"$f":"IF('DALI-Dimensionering'!E48+'DALI-Dimensionering'!J48+'DALI-Dimensionering'!O48+'DALI-Dimensionering'!T48+'DALI-Dimensionering'!#REF!+'DALI-Dimensionering'!#REF!>0,'DALI-Dimensionering'!E48+'DALI-Dimensionering'!J48+'DALI-Dimensionering'!O48+'DALI-Dimensionering'!T48+'DALI-Dimensionering'!#REF!+'DALI-Dimensionering'!#REF!,\"\")","v":{"$error":"#REF!"}},{"$f":"IF(C75=\"\",\"\",'DALI-Dimensionering'!Z48)","v":{"$error":"#REF!"}},{"$f":"IF(C75=\"\",\"\",'DALI-Dimensionering'!B48)","v":{"$error":"#REF!"}},"Kontakt Vanpee for type.",{"$error":"#REF!"},{"$error":"#REF!"},null,null,15]
[null,null,{"$f":"IF('DALI-Dimensionering'!#REF!+'DALI-Dimensionering'!#REF!+'DALI-Dimensionering'!#REF!+'DALI-Dimensionering'!#REF!+'DALI-Dimensionering'!#REF!+'DALI-Dimensionering'!#REF!>0,'DALI-Dimensionering'!#REF!+'DALI-Dimensionering'!#REF!+'DALI-Dimensionering'!#REF!+'DALI-Dimensionering'!#REF!+'DALI-Dimensionering'!#REF!+'DALI-Dimensionering'!#REF!,\"\")","v":{"$error":"#REF!"}},{"$f":"IF(C76=\"\",\"\",'DALI-Dimensionering'!#REF!)","v":{"$error":"#REF!"}},{"$f":"IF(C76=\"\",\"\",'DALI-Dimensionering'!#REF!)","v":{"$error":"#REF!"}},{"$f":"IF(C76=\"\",\"\",'DALI-Dimensionering'!#REF!)","v":{"$error":"#REF!"}},{"$error":"#REF!"},{"$error":"#REF!"},null,818.55,16]
[null,null,{"$f":"IF('DALI-Dimensionering'!#REF!+'DALI-Dimensionering'!#REF!+'DALI-Dimensionering'!#REF!+'DALI-Dimensionering'!#REF!+'DALI-Dimensionering'!#REF!+'DALI-Dimensionering'!#REF!>0,'DALI-Dimensionering'!#REF!+'DALI-Dimensionering'!#REF!+'DALI-Dimensionering'!#REF!+'DALI-Dimensionering'!#REF!+'DALI-Dimensionering'!#REF!+'DALI-Dimensionering'!#REF!,\"\")","v":{"$error":"#REF!"}},{"$f":"IF(C77=\"\",\"\",'DALI-Dimensionering'!#REF!)","v":{"$error":"#REF!"}},{"$f":"IF(C77=\"\",\"\",'DALI-Dimensionering'!#REF!)","v":{"$error":"#REF!"}},{"$f":"IF(C77=\"\",\"\",'DALI-Dimensionering'!#REF!)","v":{"$error":"#REF!"}},{"$error":"#REF!"},{"$error":"#REF!"},null,927.69,17]
[null,null,{"$f":"IF('DALI-Dimensionering'!#REF!+'DALI-Dimensionering'!#REF!+'DALI-Dimensionering'!#REF!+'DALI-Dimensionering'!#REF!+'DALI-Dimensionering'!#REF!+'DALI-Dimensionering'!#REF!>0,'DALI-Dimensionering'!#REF!+'DALI-Dimensionering'!#REF!+'DALI-Dimensionering'!#REF!+'DALI-Dimensionering'!#REF!+'DALI-Dimensionering'!#REF!+'DALI-Dimensionering'!#REF!,\"\")","v":{"$error":"#REF!"}},{"$f":"IF(C78=\"\",\"\",'DALI-Dimensionering'!#REF!)","v":{"$error":"#REF!"}},{"$f":"IF(C78=\"\",\"\",'DALI-Dimensionering'!#REF!)","v":{"$error":"#REF!"}},{"$f":"IF(C78=\"\",\"\",'DALI-Dimensionering'!#REF!)","v":{"$error":"#REF!"}},{"$error":"#REF!"},{"$error":"#REF!"},null,3001.35,18]
[null,null,{"$f":"IF('DALI-Dimensionering'!#REF!+'DALI-Dimensionering'!#REF!+'DALI-Dimensionering'!#REF!+'DALI-Dimensionering'!#REF!+'DALI-Dimensionering'!#REF!+'DALI-Dimensionering'!#REF!>0,'DALI-Dimensionering'!#REF!+'DALI-Dimensionering'!#REF!+'DALI-Dimensionering'!#REF!+'DALI-Dimensionering'!#REF!+'DALI-Dimensionering'!#REF!+'DALI-Dimensionering'!#REF!,\"\")","v":{"$error":"#REF!"}},{"$f":"IF(C79=\"\",\"\",'DALI-Dimensionering'!#REF!)","v":{"$error":"#REF!"}},{"$f":"IF(C79=\"\",\"\",'DALI-Dimensionering'!#REF!)","v":{"$error":"#REF!"}},{"$f":"IF(C79=\"\",\"\",'DALI-Dimensionering'!#REF!)","v":{"$error":"#REF!"}},{"$error":"#REF!"},{"$error":"#REF!"},null,6275.55,19]
[null,null,{"$f":"IF('DALI-Dimensionering'!#REF!+'DALI-Dimensionering'!#REF!+'DALI-Dimensionering'!#REF!+'DALI-Dimensionering'!#REF!+'DALI-Dimensionering'!#REF!+'DALI-Dimensionering'!#REF!>0,'DALI-Dimensionering'!#REF!+'DALI-Dimensionering'!#REF!+'DALI-Dimensionering'!#REF!+'DALI-Dimensionering'!#REF!+'DALI-Dimensionering'!#REF!+'DALI-Dimensionering'!#REF!,\"\")","v":{"$error":"#REF!"}},{"$f":"IF(C80=\"\",\"\",'DALI-Dimensionering'!#REF!)","v":{"$error":"#REF!"}},{"$f":"IF(C80=\"\",\"\",'DALI-Dimensionering'!#REF!)","v":{"$error":"#REF!"}},{"$f":"IF(C80=\"\",\"\",'DALI-Dimensionering'!#REF!)","v":{"$error":"#REF!"}},{"$error":"#REF!"},{"$error":"#REF!"},null,2455.65,20]
[null,null,{"$f":"IF('DALI-Dimensionering'!#REF!+'DALI-Dimensionering'!#REF!+'DALI-Dimensionering'!#REF!+'DALI-Dimensionering'!#REF!+'DALI-Dimensionering'!#REF!+'DALI-Dimensionering'!#REF!>0,'DALI-Dimensionering'!#REF!+'DALI-Dimensionering'!#REF!+'DALI-Dimensionering'!#REF!+'DALI-Dimensionering'!#REF!+'DALI-Dimensionering'!#REF!+'DALI-Dimensionering'!#REF!,\"\")","v":{"$error":"#REF!"}},{"$f":"IF(C81=\"\",\"\",'DALI-Dimensionering'!#REF!)","v":{"$error":"#REF!"}},{"$f":"IF(C81=\"\",\"\",'DALI-Dimensionering'!#REF!)","v":{"$error":"#REF!"}},{"$f":"IF(C81=\"\",\"\",'DALI-Dimensionering'!#REF!)","v":{"$error":"#REF!"}},{"$error":"#REF!"},{"$error":"#REF!"},null,2182.8000000000002,21]
[null,null,{"$f":"IF('DALI-Dimensionering'!#REF!+'DALI-Dimensionering'!#REF!+'DALI-Dimensionering'!#REF!+'DALI-Dimensionering'!#REF!+'DALI-Dimensionering'!#REF!+'DALI-Dimensionering'!#REF!>0,'DALI-Dimensionering'!#REF!+'DALI-Dimensionering'!#REF!+'DALI-Dimensionering'!#REF!+'DALI-Dimensionering'!#REF!+'DALI-Dimensionering'!#REF!+'DALI-Dimensionering'!#REF!,\"\")","v":{"$error":"#REF!"}},{"$f":"IF(C82=\"\",\"\",'DALI-Dimensionering'!#REF!)","v":{"$error":"#REF!"}},{"$f":"IF(C82=\"\",\"\",'DALI-Dimensionering'!#REF!)","v":{"$error":"#REF!"}},{"$f":"IF(C82=\"\",\"\",'DALI-Dimensionering'!#REF!)","v":{"$error":"#REF!"}},{"$error":"#REF!"},{"$error":"#REF!"},null,3765.33,22]
[null,null,{"$f":"IF('DALI-Dimensionering'!#REF!+'DALI-Dimensionering'!#REF!+'DALI-Dimensionering'!#REF!+'DALI-Dimensionering'!#REF!+'DALI-Dimensionering'!#REF!+'DALI-Dimensionering'!#REF!>0,'DALI-Dimensionering'!#REF!+'DALI-Dimensionering'!#REF!+'DALI-Dimensionering'!#REF!+'DALI-Dimensionering'!#REF!+'DALI-Dimensionering'!#REF!+'DALI-Dimensionering'!#REF!,\"\")","v":{"$error":"#REF!"}},{"$f":"IF(C83=\"\",\"\",'DALI-Dimensionering'!#REF!)","v":{"$error":"#REF!"}},{"$f":"IF(C83=\"\",\"\",'DALI-Dimensionering'!#REF!)","v":{"$error":"#REF!"}},{"$f":"IF(C83=\"\",\"\",'DALI-Dimensionering'!#REF!)","v":{"$error":"#REF!"}},{"$error":"#REF!"},{"$error":"#REF!"},null,4774.88,23]
[null,null,{"$f":"IF('DALI-Dimensionering'!#REF!+'DALI-Dimensionering'!#REF!+'DALI-Dimensionering'!#REF!+'DALI-Dimensionering'!#REF!+'DALI-Dimensionering'!#REF!+'DALI-Dimensionering'!#REF!>0,'DALI-Dimensionering'!#REF!+'DALI-Dimensionering'!#REF!+'DALI-Dimensionering'!#REF!+'DALI-Dimensionering'!#REF!+'DALI-Dimensionering'!#REF!+'DALI-Dimensionering'!#REF!,\"\")","v":{"$error":"#REF!"}},{"$f":"IF(C84=\"\",\"\",'DALI-Dimensionering'!#REF!)","v":{"$error":"#REF!"}},{"$f":"IF(C84=\"\",\"\",'DALI-Dimensionering'!#REF!)","v":{"$error":"#REF!"}},{"$f":"IF(C84=\"\",\"\",'DALI-Dimensionering'!#REF!)","v":{"$error":"#REF!"}},{"$error":"#REF!"},{"$error":"#REF!"},null,2728.5,24]
[null,null,{"$f":"IF('DALI-Dimensionering'!#REF!+'DALI-Dimensionering'!#REF!+'DALI-Dimensionering'!#REF!+'DALI-Dimensionering'!#REF!+'DALI-Dimensionering'!#REF!+'DALI-Dimensionering'!#REF!>0,'DALI-Dimensionering'!#REF!+'DALI-Dimensionering'!#REF!+'DALI-Dimensionering'!#REF!+'DALI-Dimensionering'!#REF!+'DALI-Dimensionering'!#REF!+'DALI-Dimensionering'!#REF!,\"\")","v":{"$error":"#REF!"}},{"$f":"IF(C85=\"\",\"\",'DALI-Dimensionering'!#REF!)","v":{"$error":"#REF!"}},{"$f":"IF(C85=\"\",\"\",'DALI-Dimensionering'!#REF!)","v":{"$error":"#REF!"}},{"$f":"IF(C85=\"\",\"\",'DALI-Dimensionering'!#REF!)","v":{"$error":"#REF!"}},{"$error":"#REF!"},{"$error":"#REF!"},null,682.13,25]
[null,null,{"$f":"IF('DALI-Dimensionering'!#REF!+'DALI-Dimensionering'!#REF!+'DALI-Dimensionering'!#REF!+'DALI-Dimensionering'!#REF!+'DALI-Dimensionering'!#REF!+'DALI-Dimensionering'!#REF!>0,'DALI-Dimensionering'!#REF!+'DALI-Dimensionering'!#REF!+'DALI-Dimensionering'!#REF!+'DALI-Dimensionering'!#REF!+'DALI-Dimensionering'!#REF!+'DALI-Dimensionering'!#REF!,\"\")","v":{"$error":"#REF!"}},{"$f":"IF(C86=\"\",\"\",'DALI-Dimensionering'!#REF!)","v":{"$error":"#REF!"}},{"$f":"IF(C86=\"\",\"\",'DALI-Dimensionering'!#REF!)","v":{"$error":"#REF!"}},{"$f":"IF(C86=\"\",\"\",'DALI-Dimensionering'!#REF!)","v":{"$error":"#REF!"}},{"$error":"#REF!"},{"$error":"#REF!"},null,572.99,26]
[null,null,{"$f":"IF('DALI-Dimensionering'!#REF!+'DALI-Dimensionering'!#REF!+'DALI-Dimensionering'!#REF!+'DALI-Dimensionering'!#REF!+'DALI-Dimensionering'!#REF!+'DALI-Dimensionering'!#REF!>0,'DALI-Dimensionering'!#REF!+'DALI-Dimensionering'!#REF!+'DALI-Dimensionering'!#REF!+'DALI-Dimensionering'!#REF!+'DALI-Dimensionering'!#REF!+'DALI-Dimensionering'!#REF!,\"\")","v":{"$error":"#REF!"}},{"$f":"IF(C87=\"\",\"\",'DALI-Dimensionering'!#REF!)","v":{"$error":"#REF!"}},{"$f":"IF(C87=\"\",\"\",'DALI-Dimensionering'!#REF!)","v":{"$error":"#REF!"}},{"$f":"IF(C87=\"\",\"\",'DALI-Dimensionering'!#REF!)","v":{"$error":"#REF!"}},{"$error":"#REF!"},{"$error":"#REF!"},null,572.99,27]
[null,null,{"$f":"IF('DALI-Dimensionering'!#REF!+'DALI-Dimensionering'!#REF!+'DALI-Dimensionering'!#REF!+'DALI-Dimensionering'!#REF!+'DALI-Dimensionering'!#REF!+'DALI-Dimensionering'!#REF!>0,'DALI-Dimensionering'!#REF!+'DALI-Dimensionering'!#REF!+'DALI-Dimensionering'!#REF!+'DALI-Dimensionering'!#REF!+'DALI-Dimensionering'!#REF!+'DALI-Dimensionering'!#REF!,\"\")","v":{"$error":"#REF!"}},{"$f":"IF(C88=\"\",\"\",'DALI-Dimensionering'!#REF!)","v":{"$error":"#REF!"}},{"$f":"IF(C88=\"\",\"\",'DALI-Dimensionering'!#REF!)","v":{"$error":"#REF!"}},{"$f":"IF(C88=\"\",\"\",'DALI-Dimensionering'!#REF!)","v":{"$error":"#REF!"}},{"$error":"#REF!"},{"$error":"#REF!"},null,2728.5,28]
[null,null,{"$f":"IF('DALI-Dimensionering'!#REF!+'DALI-Dimensionering'!#REF!+'DALI-Dimensionering'!#REF!+'DALI-Dimensionering'!#REF!+'DALI-Dimensionering'!#REF!+'DALI-Dimensionering'!#REF!>0,'DALI-Dimensionering'!#REF!+'DALI-Dimensionering'!#REF!+'DALI-Dimensionering'!#REF!+'DALI-Dimensionering'!#REF!+'DALI-Dimensionering'!#REF!+'DALI-Dimensionering'!#REF!,\"\")","v":{"$error":"#REF!"}},{"$f":"IF(C89=\"\",\"\",'DALI-Dimensionering'!#REF!)","v":{"$error":"#REF!"}},{"$f":"IF(C89=\"\",\"\",'DALI-Dimensionering'!#REF!)","v":{"$error":"#REF!"}},{"$f":"IF(C89=\"\",\"\",'DALI-Dimensionering'!#REF!)","v":{"$error":"#REF!"}},{"$error":"#REF!"},{"$error":"#REF!"},null,4365.6000000000004,29]
[null,null,{"$f":"IF('DALI-Dimensionering'!E49+'DALI-Dimensionering'!J49+'DALI-Dimensionering'!O49+'DALI-Dimensionering'!T49+'DALI-Dimensionering'!#REF!+'DALI-Dimensionering'!#REF!>0,'DALI-Dimensionering'!E49+'DALI-Dimensionering'!J49+'DALI-Dimensionering'!O49+'DALI-Dimensionering'!T49+'DALI-Dimensionering'!#REF!+'DALI-Dimensionering'!#REF!,\"\")","v":{"$error":"#REF!"}},{"$f":"IF(C90=\"\",\"\",'DALI-Dimensionering'!Z49)","v":{"$error":"#REF!"}},{"$f":"IF(C90=\"\",\"\",'DALI-Dimensionering'!B49)","v":{"$error":"#REF!"}},{"$f":"IF(C90=\"\",\"\",'DALI-Dimensionering'!Y49)","v":{"$error":"#REF!"}},{"$error":"#REF!"},{"$error":"#REF!"},null,2455.65,30]
[null,null,{"$f":"IF('DALI-Dimensionering'!#REF!+'DALI-Dimensionering'!#REF!+'DALI-Dimensionering'!#REF!+'DALI-Dimensionering'!#REF!+'DALI-Dimensionering'!#REF!+'DALI-Dimensionering'!#REF!>0,'DALI-Dimensionering'!#REF!+'DALI-Dimensionering'!#REF!+'DALI-Dimensionering'!#REF!+'DALI-Dimensionering'!#REF!+'DALI-Dimensionering'!#REF!+'DALI-Dimensionering'!#REF!,\"\")","v":{"$error":"#REF!"}},{"$f":"IF(C91=\"\",\"\",'DALI-Dimensionering'!#REF!)","v":{"$error":"#REF!"}},{"$f":"IF(C91=\"\",\"\",'DALI-Dimensionering'!#REF!)","v":{"$error":"#REF!"}},{"$f":"IF(C91=\"\",\"\",'DALI-Dimensionering'!#REF!)","v":{"$error":"#REF!"}},{"$error":"#REF!"},{"$error":"#REF!"},null,2182.8000000000002,31]
[null,null,{"$f":"IF('DALI-Dimensionering'!#REF!+'DALI-Dimensionering'!#REF!+'DALI-Dimensionering'!#REF!+'DALI-Dimensionering'!#REF!+'DALI-Dimensionering'!#REF!+'DALI-Dimensionering'!#REF!>0,'DALI-Dimensionering'!#REF!+'DALI-Dimensionering'!#REF!+'DALI-Dimensionering'!#REF!+'DALI-Dimensionering'!#REF!+'DALI-Dimensionering'!#REF!+'DALI-Dimensionering'!#REF!,\"\")","v":{"$error":"#REF!"}},{"$f":"IF(C92=\"\",\"\",'DALI-Dimensionering'!#REF!)","v":{"$error":"#REF!"}},{"$f":"IF(C92=\"\",\"\",'DALI-Dimensionering'!#REF!)","v":{"$error":"#REF!"}},"Kontakt Vanpee for type.",{"$error":"#REF!"},{"$error":"#REF!"},null,null,32]
[]
[null,null,{"$f":"IF('DALI-Dimensionering'!F57+'DALI-Dimensionering'!K57+'DALI-Dimensionering'!P57+'DALI-Dimensionering'!U57+'DALI-Dimensionering'!#REF!+'DALI-Dimensionering'!#REF!>0,'DALI-Dimensionering'!F57+'DALI-Dimensionering'!K57+'DALI-Dimensionering'!P57+'DALI-Dimensionering'!U57+'DALI-Dimensionering'!#REF!+'DALI-Dimensionering'!#REF!,\"\")","v":{"$error":"#REF!"}},{"$f":"IF(C94=\"\",\"\",'DALI-Dimensionering'!Z57)","v":{"$error":"#REF!"}},{"$f":"IF(C94=\"\",\"\",\"910 Router (2xDALI)\")","v":{"$error":"#REF!"}},{"$f":"IF(C94=\"\",\"\",'DALI-Dimensionering'!Y57)","v":{"$error":"#REF!"}},{"$f":"IF(C94=\"\",\"\",J94)","v":{"$error":"#REF!"}},{"$f":"IF(+G94=\"\",\"\",G94*C94)","v":{"$error":"#REF!"}},null,11946.85,33]
[null,null,{"$f":"IF(ROUNDUP('DALI-Dimensionering'!#REF!,0)+ROUNDUP('DALI-Dimensionering'!#REF!,0)+ROUNDUP('DALI-Dimensionering'!#REF!,0)+ROUNDUP('DALI-Dimensionering'!#REF!,0)+ROUNDUP('DALI-Dimensionering'!#REF!,0)+ROUNDUP('DALI-Dimensionering'!#REF!,0)=0,\"\",ROUNDUP('DALI-Dimensionering'!#REF!,0)+ROUNDUP('DALI-Dimensionering'!#REF!,0)+ROUNDUP('DALI-Dimensionering'!#REF!,0)+ROUNDUP('DALI-Dimensionering'!#REF!,0)+ROUNDUP('DALI-Dimensionering'!#REF!,0)+ROUNDUP('DALI-Dimensionering'!#REF!,0))","v":{"$error":"#REF!"}},{"$f":"IF(C95=\"\",\"\",'DALI-Dimensionering'!#REF!)","v":{"$error":"#REF!"}},{"$f":"IF(C95=\"\",\"\",\"905 Router (1xDALI)\")","v":{"$error":"#REF!"}},{"$f":"IF(C95=\"\",\"\",'DALI-Dimensionering'!#REF!)","v":{"$error":"#REF!"}},{"$f":"IF(C95=\"\",\"\",J95)","v":{"$error":"#REF!"}},{"$f":"IF(+G95=\"\",\"\",G95*C95)","v":{"$error":"#REF!"}},null,6275.55,34]
[null,null,{"$f":"IF(ROUNDUP('DALI-Dimensionering'!P58,0)+ROUNDUP('DALI-Dimensionering'!F58,0)+ROUNDUP('DALI-Dimensionering'!K58,0)+ROUNDUP('DALI-Dimensionering'!U58,0)+ROUNDUP('DALI-Dimensionering'!#REF!,0)+ROUNDUP('DALI-Dimensionering'!#REF!,0)=0,\"\",ROUNDUP('DALI-Dimensionering'!P58,0)+ROUNDUP('DALI-Dimensionering'!F58,0)+ROUNDUP('DALI-Dimensionering'!K58,0)+ROUNDUP('DALI-Dimensionering'!U58,0)+ROUNDUP('DALI-Dimensionering'!#REF!,0)+ROUNDUP('DALI-Dimensionering'!#REF!,0))","v":{"$error":"#REF!"}},{"$f":"IF(C96=\"\",\"\",'DALI-Dimensionering'!Z58)","v":{"$error":"#REF!"}},{"$f":"IF(C96=\"\",\"\",\"905 Router (1xDALI)\")","v":{"$error":"#REF!"}},{"$f":"IF(C96=\"\",\"\",'DALI-Dimensionering'!Y58)","v":{"$error":"#REF!"}},{"$f":"IF(C96=\"\",\"\",J96)","v":{"$error":"#REF!"}},{"$f":"IF(+G96=\"\",\"\",G96*C96)","v":{"$error":"#REF!"}}]