{"text_format":"1","workbook":"xlsx","n_sheets":2,"sheets":["DALI-Dimensionering","Komponentark"],"not_rendered":{"charts":0,"images":0,"macros":1,"external_links":0,"defined_names":2,"comments":1,"pivot_tables":0},"unopened":[],"bounds":{"document_bytes":16777216,"sheet_cells":100000,"rows_first":2000,"rows_last":500,"rows_between":2000,"halvings":0,"cell_chars":16384,"cell_head_chars":4096},"cells_cut":0,"cells_raw":0,"read":"whole","date_system":"1900"}

{"sheet":"DALI-Dimensionering","index":0,"n_rows":62,"n_cols":30,"rows_kept":62,"cut":false,"hidden":false,"merged":[[0,0,1,26],[0,31,45,31],[54,1,54,2],[2,4,2,6],[2,8,2,10],[2,12,2,14],[2,16,2,18],[2,20,2,22],[2,24,2,26],[46,0,46,30]]}
[]
[]
[null," Enhed:","mA",null,"Navn på område",null,null,null,"Navn på område",null,null,null,"Navn på område",null,null,null,"Navn på område",null,null,null,"Navn på område",null,null,null,"Navn på område",null,null,null,"EAN Nr.","Varenr."]
[null,null,null,null,"Antal","Adr.","mA",null,"Antal","Adr.","mA",null,"Antal","Adr.","mA",null,"Antal","Adr.","mA",null,"Antal","Adr.","mA",null,"Antal","Adr.","mA"]
[null,"Forkoblinger / LED driver",2,null,0,{"$f":"E5","v":0},{"$f":"F5*$C5","v":0},null,0,{"$f":"I5","v":0},{"$f":"J5*$C5","v":0},null,0,{"$f":"M5","v":0},{"$f":"N5*$C5","v":0},null,0,{"$f":"Q5","v":0},{"$f":"R5*$C5","v":0},null,0,{"$f":"U5","v":0},{"$f":"V5*$C5","v":0},null,0,{"$f":"Y5","v":0},{"$f":"Z5*$C5","v":0}]
[null,"13X - Betjeningspanel inkl. ramme",10,null,0,0,{"$f":"F6*$C6","v":0},null,0,0,{"$f":"J6*$C6","v":0},null,0,0,{"$f":"N6*$C6","v":0},null,0,0,{"$f":"R6*$C6","v":0},null,0,0,{"$f":"V6*$C6","v":0},null,0,0,{"$f":"Z6*$C6","v":0},null,null,"12xx/13xx"]
[null,"311 - PIR",15,null,0,0,0,null,0,0,0,null,0,0,0,null,0,0,0,null,0,0,0,null,0,0,0,null,5030797003118,610311]
[null,"312 - Multisensor",15,null,0,0,0,null,0,0,0,null,0,0,0,null,0,0,0,null,0,0,0,null,0,0,0,null,5707250510611,610312]
[null,"313 - Mikrobølgesensor",20,null,0,0,0,null,0,0,0,null,0,0,0,null,0,0,0,null,0,0,0,null,0,0,0,null,5030797003132,610313]
[null,"314 - Mikrobølgesensor, kipbar",40,null,0,0,0,null,0,0,0,null,0,0,0,null,0,0,0,null,0,0,0,null,0,0,0,null,5030797003149,610314]
[null,"317 - High-Bay PIR",20,null,0,0,0,null,0,0,0,null,0,0,0,null,0,0,0,null,0,0,0,null,0,0,0,null,5030797003170,610317]
[null,"318 - PIR sensor, afbrydermonteret",10,null,0,0,0,null,0,0,0,null,0,0,0,null,0,0,0,null,0,0,0,null,0,0,0,null,5030797013186,610318]
[null,"320 - Digidim320 PIR Sensor ",10,null,0,0,0,null,0,0,0,null,0,0,0,null,0,0,0,null,0,0,0,null,0,0,0,null,null,610320]
[null,"321 - Digidim321 Multisensor",10,null,0,0,0,null,0,0,0,null,0,0,0,null,0,0,0,null,0,0,0,null,0,0,0,null,5030797003217,610321]
[null,"322 - Digidim322 PIR Sensor HIGH BAY ",10,null,0,0,0,null,0,0,0,null,0,0,0,null,0,0,0,null,0,0,0,null,0,0,0,null,null,610322]
[null,"329 - Lyssensor",10,null,0,0,0,null,0,0,0,null,0,0,0,null,0,0,0,null,0,0,0,null,0,0,0,null,5707205611597,610329]
[null,"416S - Lysdæmper 1x16A (3.680 W)",2,null,0,0,0,null,0,0,0,null,0,0,0,null,0,0,0,null,0,0,0,null,0,0,0,null,5707205611523,"610416S"]
[null,"425S- Lysdæmper 1x25A ~ 5.750W",2,null,0,0,0,null,0,0,0,null,0,0,0,null,0,0,0,null,0,0,0,null,0,0,0,null,5707205611530,"610425S"]
[null,"434 - EnOcean Gateway",20,null,0,0,{"$f":"F19*$C19","v":0},null,0,0,0,null,0,0,0,null,0,0,0,null,0,0,0,null,0,0,0,null,5707205611608,610434]
[null,"18x - EnOcean tryk",0,null,0,{"$f":"E20*1","v":0},0,null,0,{"$f":"I20*1","v":0},0,null,0,{"$f":"M20*1","v":0},0,null,0,{"$f":"Q20*1","v":0},0,null,0,{"$f":"U20*1","v":0},0,null,0,{"$f":"Y20*1","v":0},0,null,"Div.","61018X"]
[null,"444 - Mini inputmodul",10,null,0,0,0,null,0,0,0,null,0,0,0,null,0,0,0,null,0,0,0,null,0,0,0,null,5030797551107,610444]
[null,"445 - Mini inputmodul for status LED",15,null,0,0,0,null,0,0,0,null,0,0,0,null,0,0,0,null,0,0,0,null,0,0,0,null,5707205611585,610445]
[null,"452 - Universallysdæmper, 1 kanal",2,null,0,0,0,null,0,0,0,null,0,0,0,null,0,0,0,null,0,0,0,null,0,0,0,null,5707205610717,610452]
[null,"454 - Bagkantlysdæmper, 4 kanaler",2,null,0,{"$f":"E24*4","v":0},{"$f":"E24*$C24","v":0},null,0,{"$f":"I24*4","v":0},{"$f":"I24*$C24","v":0},null,0,{"$f":"M24*4","v":0},{"$f":"M24*$C24","v":0},null,0,{"$f":"Q24*4","v":0},{"$f":"Q24*$C24","v":0},null,0,{"$f":"U24*4","v":0},{"$f":"U24*$C24","v":0},null,0,{"$f":"Y24*4","v":0},{"$f":"Y24*$C24","v":0},null,5707205611271,610454]
[null,"455 - Forkantlysdæmper, 1 kanal",2,null,0,{"$f":"E25","v":0},0,null,0,{"$f":"I25","v":0},0,null,0,{"$f":"M25","v":0},0,null,0,{"$f":"Q25","v":0},0,null,0,{"$f":"U25","v":0},0,null,0,{"$f":"Y25","v":0},0,null,5707205610649,610455]
[null,"472 - Konverter, 1 kanal",2,null,0,{"$f":"E26","v":0},0,null,0,{"$f":"I26","v":0},0,null,0,{"$f":"M26","v":0},0,null,0,{"$f":"Q26","v":0},0,null,0,{"$f":"U26","v":0},0,null,0,{"$f":"Y26","v":0},0,null,5707205610687,610472]
[null,"474 - Konverter, 4 kanaler",2,null,0,{"$f":"E27*4","v":0},{"$f":"E27*$C27","v":0},null,0,{"$f":"I27*4","v":0},{"$f":"I27*$C27","v":0},null,0,{"$f":"M27*4","v":0},{"$f":"M27*$C27","v":0},null,0,{"$f":"Q27*4","v":0},{"$f":"Q27*$C27","v":0},null,0,{"$f":"U27*4","v":0},{"$f":"U27*$C27","v":0},null,0,{"$f":"Y27*4","v":0},{"$f":"Y27*$C27","v":0},null,5707205610977,610474]
[null,"478 - Controller 8 subnet Broadcast",2,null,0,{"$f":"E28*8","v":0},{"$f":"E28*$C28","v":0},null,0,{"$f":"I28*8","v":0},{"$f":"I28*$C28","v":0},null,0,{"$f":"M28*8","v":0},{"$f":"M28*$C28","v":0},null,0,{"$f":"Q28*8","v":0},{"$f":"Q28*$C28","v":0},null,0,{"$f":"U28*8","v":0},{"$f":"U28*$C28","v":0},null,0,{"$f":"Y28*8","v":0},{"$f":"Y28*$C28","v":0},null,5707205611639,610478]
[null,"490 - Markisemodul",2,null,0,{"$f":"E29*2","v":0},{"$f":"E29*$C29","v":0},null,0,{"$f":"I29*2","v":0},{"$f":"I29*$C29","v":0},null,0,{"$f":"M29*2","v":0},{"$f":"M29*$C29","v":0},null,0,{"$f":"Q29*2","v":0},{"$f":"Q29*$C29","v":0},null,0,{"$f":"U29*2","v":0},{"$f":"U29*$C29","v":0},null,0,{"$f":"Y29*2","v":0},{"$f":"Y29*$C29","v":0},null,5707205610700,610490]
[null,"491 - Relæ, 1 kanal",2,null,0,{"$f":"E30","v":0},0,null,0,{"$f":"I30","v":0},0,null,0,{"$f":"M30","v":0},0,null,0,{"$f":"Q30","v":0},0,null,0,{"$f":"U30","v":0},0,null,0,{"$f":"Y30","v":0},0,null,5707205610946,610491]
[null,"492 - Relæ, 1 kanal",2,null,0,{"$f":"E31","v":0},0,null,0,{"$f":"I31","v":0},0,null,0,{"$f":"M31","v":0},0,null,0,{"$f":"Q31","v":0},0,null,0,{"$f":"U31","v":0},0,null,0,{"$f":"Y31","v":0},0,null,5030797004924,610492]
[null,"493 - Relæ, 1 kanal",2,null,0,{"$f":"E32","v":0},0,null,0,{"$f":"I32","v":0},0,null,0,{"$f":"M32","v":0},0,null,0,{"$f":"Q32","v":0},0,null,0,{"$f":"U32","v":0},0,null,0,{"$f":"Y32","v":0},0,null,5030797004931,610493]
[null,"494 - Relæ, 4 kanaler",2,null,0,{"$f":"E33*4","v":0},{"$f":"E33*$C33","v":0},null,0,{"$f":"I33*4","v":0},{"$f":"I33*$C33","v":0},null,0,{"$f":"M33*4","v":0},{"$f":"M33*$C33","v":0},null,0,{"$f":"Q33*4","v":0},{"$f":"Q33*$C33","v":0},null,0,{"$f":"U33*4","v":0},{"$f":"U33*$C33","v":0},null,0,{"$f":"Y33*4","v":0},{"$f":"Y33*$C33","v":0},null,5030797993006,610494]
[null,"498 - Relæ, 8 kanaler",2,null,0,{"$f":"E34*8","v":0},{"$f":"E34*$C34","v":0},null,0,{"$f":"I34*8","v":0},{"$f":"I34*$C34","v":0},null,0,{"$f":"M34*8","v":0},{"$f":"M34*$C34","v":0},null,0,{"$f":"Q34*8","v":0},{"$f":"Q34*$C34","v":0},null,0,{"$f":"U34*8","v":0},{"$f":"U34*$C34","v":0},null,0,{"$f":"Y34*8","v":0},{"$f":"Y34*$C34","v":0},null,5707205610953,610498]
[null,"942 - Inputmodul, 8 inputkanaler",10,null,0,{"$f":"E35*1","v":0},0,null,0,{"$f":"I35*1","v":0},0,null,0,{"$f":"M35*1","v":0},0,null,0,{"$f":"Q35*1","v":0},0,null,0,{"$f":"U35*1","v":0},0,null,0,{"$f":"Y35*1","v":0},0,null,5707205611325,610942]
[null,"341 - Digidim 341 Pir sensor",20,null,0,{"$f":"E36*1","v":0},0,null,0,{"$f":"I36*1","v":0},0,null,0,{"$f":"M36*1","v":0},0,null,0,{"$f":"Q36*1","v":0},0,null,0,{"$f":"U36*1","v":0},0,null,0,{"$f":"Y36*1","v":0},0,null,5030797003415,610341]
[null,"19X - Illustris paneler",22,null,0,{"$f":"E37*1","v":0},0,null,0,{"$f":"I37*1","v":0},0,null,0,{"$f":"M37*1","v":0},0,null,0,{"$f":"Q37*1","v":0},{"$f":"R37*$C$37","v":0},null,0,{"$f":"U37*1","v":0},{"$f":"V37*$C$37","v":0},null,0,{"$f":"Y37*1","v":0},0,null,"Div.","61019X"]
[]
[null,"Adresser:",null,null,null,{"$f":"SUM(F5:F37)","v":0},null,null,null,{"$f":"SUM(J5:J37)","v":0},null,null,null,{"$f":"SUM(N5:N37)","v":0},null,null,null,{"$f":"SUM(R5:R37)","v":0},null,null,null,{"$f":"SUM(V5:V37)","v":0},null,null,null,{"$f":"SUM(Z5:Z37)","v":0}]
[null,"mA",null,null,null,null,{"$f":"SUM(G5:G39)","v":0},null,null,null,{"$f":"SUM(K5:K39)","v":0},null,null,null,{"$f":"SUM(O5:O39)","v":0},null,null,null,{"$f":"SUM(S5:S39)","v":0},null,null,null,{"$f":"SUM(W5:W39)","v":0},null,null,null,{"$f":"SUM(AA5:AA39)","v":0}]
[]
[null,"Udvidelsesfaktor",null,null,0.15]
[]
[null,"Nødvendigt antal DALI-busser med X % Udvidelse",null,null,null,{"$f":"IF($E$42=0,ROUNDUP(IF((F61)>(G61),(F61),(G61)),0),ROUNDUP(IF((F61)>(G61),(F61)*($E$42+1),(G61)*($E$42+1)),0))","v":0},null,null,null,{"$f":"IF($E$42=0,ROUNDUP(IF((J61)>(K61),(J61),(K61)),0),ROUNDUP(IF((J61)>(K61),(J61)*($E$42+1),(K61)*($E$42+1)),0))","v":0},null,null,null,{"$f":"IF($E$42=0,ROUNDUP(IF((N61)>(O61),(N61),(O61)),0),ROUNDUP(IF((N61)>(O61),(N61)*($E$42+1),(O61)*($E$42+1)),0))","v":0},null,null,null,{"$f":"IF($E$42=0,ROUNDUP(IF((R61)>(S61),(R61),(S61)),0),ROUNDUP(IF((R61)>(S61),(R61)*($E$42+1),(S61)*($E$42+1)),0))","v":0},null,null,null,{"$f":"IF($E$42=0,ROUNDUP(IF((V61)>(W61),(V61),(W61)),0),ROUNDUP(IF((V61)>(W61),(V61)*($E$42+1),(W61)*($E$42+1)),0))","v":0},null,null,null,{"$f":"IF($E$42=0,ROUNDUP(IF((Z61)>(AA61),(Z61),(AA61)),0),ROUNDUP(IF((Z61)>(AA61),(Z61)*($E$42+1),(AA61)*($E$42+1)),0))","v":0}]
[null,"Antal 910 router (Varenr. 610910)",null,null,null,{"$f":"ROUNDDOWN(F44/2,0)","v":0},null,null,null,{"$f":"ROUNDDOWN(J44/2,0)","v":0},null,null,null,{"$f":"ROUNDDOWN(N44/2,0)","v":0},null,null,null,{"$f":"ROUNDDOWN(R44/2,0)","v":0},null,null,null,{"$f":"ROUNDDOWN(V44/2,0)","v":0},null,null,null,{"$f":"ROUNDDOWN(Z44/2,0)","v":0},null,null,5707205610762,610910]
[null,"Antal 905 router (Varenr. 610905)",null,null,null,{"$f":"(+F44/2)-F45","v":0},null,null,null,{"$f":"(+J44/2)-J45","v":0},null,null,null,{"$f":"(+N44/2)-N45","v":0},null,null,null,{"$f":"(+R44/2)-R45","v":0},null,null,null,{"$f":"(+V44/2)-V45","v":0},null,null,null,{"$f":"(+Z44/2)-Z45","v":0},null,null,5030797009059,610905]
[]
[]
[]
[]
[]
[]
[]
[]
[]
[]
[]
[]
[]
[]
[null,"Normal",null,null,null,{"$f":"IF(((+F39/64))<0,\"0\",(F39/64))","v":0},{"$f":"IF((+G40/250)<0,\"0\",(G40/250))","v":0},null,null,{"$f":"IF(((+J39/64))<0,\"0\",(J39/64))","v":0},{"$f":"IF((+K40/250)<0,\"0\",(K40/250))","v":0},null,null,{"$f":"IF(((+N39/64))<0,\"0\",(N39/64))","v":0},{"$f":"IF((+O40/250)<0,\"0\",(O40/250))","v":0},null,null,{"$f":"IF(((+R39/64))<0,\"0\",(R39/64))","v":0},{"$f":"IF((+S40/250)<0,\"0\",(S40/250))","v":0},null,null,{"$f":"IF(((+V39/64))<0,\"0\",(V39/64))","v":0},{"$f":"IF((+W40/250)<0,\"0\",(W40/250))","v":0},null,null,{"$f":"IF(((+Z39/64))<0,\"0\",(Z39/64))","v":0},{"$f":"IF((+AA40/250)<0,\"0\",(AA40/250))","v":0}]
[null,"Normal",null,null,null,{"$f":"+F39/64","v":0},{"$f":"+G40/250","v":0},null,null,{"$f":"+J39/64","v":0},{"$f":"+K40/250","v":0},null,null,{"$f":"+N39/64","v":0},{"$f":"+O40/250","v":0},null,null,{"$f":"+R39/64","v":0},{"$f":"+S40/250","v":0},null,null,{"$f":"+V39/64","v":0},{"$f":"+W40/250","v":0},null,null,{"$f":"+Z39/64","v":0},{"$f":"+AA40/250","v":0}]

{"sheet":"Komponentark","index":1,"n_rows":96,"n_cols":22,"rows_kept":96,"cut":false,"hidden":false,"merged":[[49,7,50,7],[8,9,8,11],[1,0,49,0],[2,4,2,6],[3,4,3,6],[4,4,4,6],[5,4,5,6],[6,4,6,6],[7,4,7,6],[8,3,8,6]]}
[]
[]
[null,null,null,"Firmanavn:"]
[null,null,null,"Att.:"]
[null,null,null,"Gade:"]
[null,null,null,"Postnummer / By:"]
[null,null,null,"Tlf.:"]
[null,null,null,"Email.:"]
[null,null,null,"OBS. Alle priser er listepriser eksl. moms.",null,null,null,null,null,null,null,null,null,null,null,null,null,null,null,null,null,{"$f":"IF(E9=\"\",\"\",\"1\")","v":""}]
[null,null,"Varenummer","Varetekst","Antal","Listepris","Total","EAN Nummer"]
[null,null,{"$f":"IF(Komponentark!C61=\"\",\"\",Komponentark!D61)","v":""},{"$f":"IF(C11=\"\",\"\",Komponentark!E61)","v":""},{"$f":"IF(C11=\"\",\"\",Komponentark!C61)","v":""},{"$f":"IF(C11=\"\",\"\",Komponentark!G61)","v":""},{"$f":"IF(E11=\"\",\"\",SUM(E11*F11))","v":""},{"$f":"IF(C11=\"\",\"\",Komponentark!F61)","v":""},null,null,{"$f":"IF(C11=\"\",\"\",VLOOKUP(C11,$D$60:$K$95,8,FALSE))","v":""},null,null,null,null,null,null,null,null,null,1,{"$f":"IF(E11=\"\",\"\",\"1\")","v":""}]
[null,null,{"$f":"IF(Komponentark!C62=\"\",\"\",Komponentark!D62)","v":""},{"$f":"IF(C12=\"\",\"\",Komponentark!E62)","v":""},{"$f":"IF(C12=\"\",\"\",Komponentark!C62)","v":""},{"$f":"IF(C12=\"\",\"\",Komponentark!G62)","v":""},"",{"$f":"IF(C12=\"\",\"\",Komponentark!F62)","v":""},null,null,"",null,null,null,null,null,null,null,null,null,2,""]
[null,null,{"$f":"IF(Komponentark!C63=\"\",\"\",Komponentark!D63)","v":""},{"$f":"IF(C13=\"\",\"\",Komponentark!E63)","v":""},{"$f":"IF(C13=\"\",\"\",Komponentark!C63)","v":""},{"$f":"IF(C13=\"\",\"\",Komponentark!G63)","v":""},"",{"$f":"IF(C13=\"\",\"\",Komponentark!F63)","v":""},null,null,"",null,null,null,null,null,null,null,null,null,3,""]
[null,null,{"$f":"IF(Komponentark!C64=\"\",\"\",Komponentark!D64)","v":""},{"$f":"IF(C14=\"\",\"\",Komponentark!E64)","v":""},{"$f":"IF(C14=\"\",\"\",Komponentark!C64)","v":""},{"$f":"IF(C14=\"\",\"\",Komponentark!G64)","v":""},"",{"$f":"IF(C14=\"\",\"\",Komponentark!F64)","v":""},null,null,"",null,null,null,null,null,null,null,null,null,4,""]
[null,null,{"$f":"IF(Komponentark!C65=\"\",\"\",Komponentark!D65)","v":""},{"$f":"IF(C15=\"\",\"\",Komponentark!E65)","v":""},{"$f":"IF(C15=\"\",\"\",Komponentark!C65)","v":""},{"$f":"IF(C15=\"\",\"\",Komponentark!G65)","v":""},"",{"$f":"IF(C15=\"\",\"\",Komponentark!F65)","v":""},null,null,"",null,null,null,null,null,null,null,null,null,5,""]
[null,null,{"$f":"IF(Komponentark!C66=\"\",\"\",Komponentark!D66)","v":""},{"$f":"IF(C16=\"\",\"\",Komponentark!E66)","v":""},{"$f":"IF(C16=\"\",\"\",Komponentark!C66)","v":""},{"$f":"IF(C16=\"\",\"\",Komponentark!G66)","v":""},"",{"$f":"IF(C16=\"\",\"\",Komponentark!F66)","v":""},null,null,"",null,null,null,null,null,null,null,null,null,5,""]
[null,null,{"$f":"IF(Komponentark!C67=\"\",\"\",Komponentark!D67)","v":""},{"$f":"IF(C17=\"\",\"\",Komponentark!E67)","v":""},{"$f":"IF(C17=\"\",\"\",Komponentark!C67)","v":""},{"$f":"IF(C17=\"\",\"\",Komponentark!G67)","v":""},"",{"$f":"IF(C17=\"\",\"\",Komponentark!F67)","v":""},null,null,"",null,null,null,null,null,null,null,null,null,6,""]
[null,null,{"$f":"IF(Komponentark!C68=\"\",\"\",Komponentark!D68)","v":""},{"$f":"IF(C18=\"\",\"\",Komponentark!E68)","v":""},{"$f":"IF(C18=\"\",\"\",Komponentark!C68)","v":""},{"$f":"IF(C18=\"\",\"\",Komponentark!G68)","v":""},"",{"$f":"IF(C18=\"\",\"\",Komponentark!F68)","v":""},null,null,"",null,null,null,null,null,null,null,null,null,7,""]
[null,null,{"$f":"IF(Komponentark!C69=\"\",\"\",Komponentark!D69)","v":""},{"$f":"IF(C19=\"\",\"\",Komponentark!E69)","v":""},{"$f":"IF(C19=\"\",\"\",Komponentark!C69)","v":""},{"$f":"IF(C19=\"\",\"\",Komponentark!G69)","v":""},"",{"$f":"IF(C19=\"\",\"\",Komponentark!F69)","v":""},null,null,"",null,null,null,null,null,null,null,null,null,8,""]
[null,null,{"$f":"IF(Komponentark!C70=\"\",\"\",Komponentark!D70)","v":""},{"$f":"IF(C20=\"\",\"\",Komponentark!E70)","v":""},{"$f":"IF(C20=\"\",\"\",Komponentark!C70)","v":""},{"$f":"IF(C20=\"\",\"\",Komponentark!G70)","v":""},"",{"$f":"IF(C20=\"\",\"\",Komponentark!F70)","v":""},null,null,"",null,null,null,null,null,null,null,null,null,9,""]
[null,null,{"$f":"IF(Komponentark!C71=\"\",\"\",Komponentark!D71)","v":""},{"$f":"IF(C21=\"\",\"\",Komponentark!E71)","v":""},{"$f":"IF(C21=\"\",\"\",Komponentark!C71)","v":""},{"$f":"IF(C21=\"\",\"\",Komponentark!G71)","v":""},"",{"$f":"IF(C21=\"\",\"\",Komponentark!F71)","v":""},null,null,"",null,null,null,null,null,null,null,null,null,10,""]
[null,null,{"$f":"IF(Komponentark!C72=\"\",\"\",Komponentark!D72)","v":""},{"$f":"IF(C22=\"\",\"\",Komponentark!E72)","v":""},{"$f":"IF(C22=\"\",\"\",Komponentark!C72)","v":""},{"$f":"IF(C22=\"\",\"\",Komponentark!G72)","v":""},"",{"$f":"IF(C22=\"\",\"\",Komponentark!F72)","v":""},null,null,"",null,null,null,null,null,null,null,null,null,11,""]
[null,null,{"$f":"IF(Komponentark!C73=\"\",\"\",Komponentark!D73)","v":""},{"$f":"IF(C23=\"\",\"\",Komponentark!E73)","v":""},{"$f":"IF(C23=\"\",\"\",Komponentark!C73)","v":""},{"$f":"IF(C23=\"\",\"\",Komponentark!G73)","v":""},"",{"$f":"IF(C23=\"\",\"\",Komponentark!F73)","v":""},null,null,"",null,null,null,null,null,null,null,null,null,12,""]
[null,null,{"$f":"IF(Komponentark!C74=\"\",\"\",Komponentark!D74)","v":""},{"$f":"IF(C24=\"\",\"\",Komponentark!E74)","v":""},{"$f":"IF(C24=\"\",\"\",Komponentark!C74)","v":""},{"$f":"IF(C24=\"\",\"\",Komponentark!G74)","v":""},"",{"$f":"IF(C24=\"\",\"\",Komponentark!F74)","v":""},null,null,"",null,null,null,null,null,null,null,null,null,13,""]
[null,null,{"$f":"IF(Komponentark!C75=\"\",\"\",Komponentark!D75)","v":""},{"$f":"IF(C25=\"\",\"\",Komponentark!E75)","v":""},{"$f":"IF(C25=\"\",\"\",Komponentark!C75)","v":""},{"$f":"IF(C25=\"\",\"\",Komponentark!G75)","v":""},"",{"$f":"IF(C25=\"\",\"\",Komponentark!F75)","v":""},null,null,"",null,null,null,null,null,null,null,null,null,14,""]
[null,null,{"$f":"IF(Komponentark!C76=\"\",\"\",Komponentark!D76)","v":""},{"$f":"IF(C26=\"\",\"\",Komponentark!E76)","v":""},{"$f":"IF(C26=\"\",\"\",Komponentark!C76)","v":""},{"$f":"IF(C26=\"\",\"\",Komponentark!G76)","v":""},"",{"$f":"IF(C26=\"\",\"\",Komponentark!F76)","v":""},null,null,"",null,null,null,null,null,null,null,null,null,15,""]
[null,null,{"$f":"IF(Komponentark!C77=\"\",\"\",Komponentark!D77)","v":""},{"$f":"IF(C27=\"\",\"\",Komponentark!E77)","v":""},{"$f":"IF(C27=\"\",\"\",Komponentark!C77)","v":""},{"$f":"IF(C27=\"\",\"\",Komponentark!G77)","v":""},"",{"$f":"IF(C27=\"\",\"\",Komponentark!F77)","v":""},null,null,"",null,null,null,null,null,null,null,null,null,16,""]
[null,null,{"$f":"IF(Komponentark!C78=\"\",\"\",Komponentark!D78)","v":""},{"$f":"IF(C28=\"\",\"\",Komponentark!E78)","v":""},{"$f":"IF(C28=\"\",\"\",Komponentark!C78)","v":""},{"$f":"IF(C28=\"\",\"\",Komponentark!G78)","v":""},"",{"$f":"IF(C28=\"\",\"\",Komponentark!F78)","v":""},null,null,"",null,null,null,null,null,null,null,null,null,17,""]
[null,null,{"$f":"IF(Komponentark!C79=\"\",\"\",Komponentark!D79)","v":""},{"$f":"IF(C29=\"\",\"\",Komponentark!E79)","v":""},{"$f":"IF(C29=\"\",\"\",Komponentark!C79)","v":""},{"$f":"IF(C29=\"\",\"\",Komponentark!G79)","v":""},"",{"$f":"IF(C29=\"\",\"\",Komponentark!F79)","v":""},null,null,"",null,null,null,null,null,null,null,null,null,18,""]
[null,null,{"$f":"IF(Komponentark!C80=\"\",\"\",Komponentark!D80)","v":""},{"$f":"IF(C30=\"\",\"\",Komponentark!E80)","v":""},{"$f":"IF(C30=\"\",\"\",Komponentark!C80)","v":""},{"$f":"IF(C30=\"\",\"\",Komponentark!G80)","v":""},"",{"$f":"IF(C30=\"\",\"\",Komponentark!F80)","v":""},null,null,"",null,null,null,null,null,null,null,null,null,19,""]
[null,null,{"$f":"IF(Komponentark!C81=\"\",\"\",Komponentark!D81)","v":""},{"$f":"IF(C31=\"\",\"\",Komponentark!E81)","v":""},{"$f":"IF(C31=\"\",\"\",Komponentark!C81)","v":""},{"$f":"IF(C31=\"\",\"\",Komponentark!G81)","v":""},"",{"$f":"IF(C31=\"\",\"\",Komponentark!F81)","v":""},null,null,"",null,null,null,null,null,null,null,null,null,20,""]
[null,null,{"$f":"IF(Komponentark!C82=\"\",\"\",Komponentark!D82)","v":""},{"$f":"IF(C32=\"\",\"\",Komponentark!E82)","v":""},{"$f":"IF(C32=\"\",\"\",Komponentark!C82)","v":""},{"$f":"IF(C32=\"\",\"\",Komponentark!G82)","v":""},"",{"$f":"IF(C32=\"\",\"\",Komponentark!F82)","v":""},null,null,"",null,null,null,null,null,null,null,null,null,21,""]
[null,null,{"$f":"IF(Komponentark!C83=\"\",\"\",Komponentark!D83)","v":""},{"$f":"IF(C33=\"\",\"\",Komponentark!E83)","v":""},{"$f":"IF(C33=\"\",\"\",Komponentark!C83)","v":""},{"$f":"IF(C33=\"\",\"\",Komponentark!G83)","v":""},"",{"$f":"IF(C33=\"\",\"\",Komponentark!F83)","v":""},null,null,"",null,null,null,null,null,null,null,null,null,22,""]
[null,null,{"$f":"IF(Komponentark!C84=\"\",\"\",Komponentark!D84)","v":""},{"$f":"IF(C34=\"\",\"\",Komponentark!E84)","v":""},{"$f":"IF(C34=\"\",\"\",Komponentark!C84)","v":""},{"$f":"IF(C34=\"\",\"\",Komponentark!G84)","v":""},"",{"$f":"IF(C34=\"\",\"\",Komponentark!F84)","v":""},null,null,"",null,null,null,null,null,null,null,null,null,23,""]
[null,null,{"$f":"IF(Komponentark!C85=\"\",\"\",Komponentark!D85)","v":""},{"$f":"IF(C35=\"\",\"\",Komponentark!E85)","v":""},{"$f":"IF(C35=\"\",\"\",Komponentark!C85)","v":""},{"$f":"IF(C35=\"\",\"\",Komponentark!G85)","v":""},"",{"$f":"IF(C35=\"\",\"\",Komponentark!F85)","v":""},null,null,"",null,null,null,null,null,null,null,null,null,24,""]
[null,null,{"$f":"IF(Komponentark!C86=\"\",\"\",Komponentark!D86)","v":""},{"$f":"IF(C36=\"\",\"\",Komponentark!E86)","v":""},{"$f":"IF(C36=\"\",\"\",Komponentark!C86)","v":""},{"$f":"IF(C36=\"\",\"\",Komponentark!G86)","v":""},"",{"$f":"IF(C36=\"\",\"\",Komponentark!F86)","v":""},null,null,"",null,null,null,null,null,null,null,null,null,25,""]
[null,null,{"$f":"IF(Komponentark!C87=\"\",\"\",Komponentark!D87)","v":""},{"$f":"IF(C37=\"\",\"\",Komponentark!E87)","v":""},{"$f":"IF(C37=\"\",\"\",Komponentark!C87)","v":""},{"$f":"IF(C37=\"\",\"\",Komponentark!G87)","v":""},"",{"$f":"IF(C37=\"\",\"\",Komponentark!F87)","v":""},null,null,"",null,null,null,null,null,null,null,null,null,26,""]
[null,null,{"$f":"IF(Komponentark!C88=\"\",\"\",Komponentark!D88)","v":""},{"$f":"IF(C38=\"\",\"\",Komponentark!E88)","v":""},{"$f":"IF(C38=\"\",\"\",Komponentark!C88)","v":""},{"$f":"IF(C38=\"\",\"\",Komponentark!G88)","v":""},"",{"$f":"IF(C38=\"\",\"\",Komponentark!F88)","v":""},null,null,"",null,null,null,null,null,null,null,null,null,27,""]
[null,null,{"$f":"IF(Komponentark!C89=\"\",\"\",Komponentark!D89)","v":""},{"$f":"IF(C39=\"\",\"\",Komponentark!E89)","v":""},{"$f":"IF(C39=\"\",\"\",Komponentark!C89)","v":""},{"$f":"IF(C39=\"\",\"\",Komponentark!G89)","v":""},"",{"$f":"IF(C39=\"\",\"\",Komponentark!F89)","v":""},null,null,"",null,null,null,null,null,null,null,null,null,28,""]
[null,null,{"$f":"IF(Komponentark!C90=\"\",\"\",Komponentark!D90)","v":""},{"$f":"IF(C40=\"\",\"\",Komponentark!E90)","v":""},{"$f":"IF(C40=\"\",\"\",Komponentark!C90)","v":""},{"$f":"IF(C40=\"\",\"\",Komponentark!G90)","v":""},"",{"$f":"IF(C40=\"\",\"\",Komponentark!F90)","v":""},null,null,"",null,null,null,null,null,null,null,null,null,29,""]
[null,null,{"$f":"IF(Komponentark!C91=\"\",\"\",Komponentark!D91)","v":""},{"$f":"IF(C41=\"\",\"\",Komponentark!E91)","v":""},{"$f":"IF(C41=\"\",\"\",Komponentark!C91)","v":""},{"$f":"IF(C41=\"\",\"\",Komponentark!G91)","v":""},"",{"$f":"IF(C41=\"\",\"\",Komponentark!F91)","v":""},null,null,"",null,null,null,null,null,null,null,null,null,30,""]
[null,null,{"$f":"IF(Komponentark!C92=\"\",\"\",Komponentark!D92)","v":""},{"$f":"IF(C42=\"\",\"\",Komponentark!E92)","v":""},{"$f":"IF(C42=\"\",\"\",Komponentark!C92)","v":""},{"$f":"IF(C42=\"\",\"\",Komponentark!G92)","v":""},"",{"$f":"IF(C42=\"\",\"\",Komponentark!F92)","v":""},null,null,"",null,null,null,null,null,null,null,null,null,31,""]
[null,null,{"$f":"IF(Komponentark!C94=\"\",\"\",Komponentark!D94)","v":""},{"$f":"IF(C43=\"\",\"\",Komponentark!E94)","v":""},{"$f":"IF(C43=\"\",\"\",Komponentark!C94)","v":""},{"$f":"IF(C43=\"\",\"\",Komponentark!G94)","v":""},"",{"$f":"IF(C43=\"\",\"\",Komponentark!F94)","v":""},null,null,"",null,null,null,null,null,null,null,null,null,33,""]
[null,null,{"$f":"IF(Komponentark!C95=\"\",\"\",Komponentark!D95)","v":""},{"$f":"IF(C44=\"\",\"\",Komponentark!E95)","v":""},{"$f":"IF(C44=\"\",\"\",Komponentark!C95)","v":""},{"$f":"IF(C44=\"\",\"\",Komponentark!G95)","v":""},"",{"$f":"IF(C44=\"\",\"\",Komponentark!F95)","v":""},null,null,"",null,null,null,null,null,null,null,null,null,34,""]
[null,null,{"$f":"IF(Komponentark!C93=\"\",\"\",Komponentark!D93)","v":""},{"$f":"IF(C45=\"\",\"\",Komponentark!E93)","v":""},{"$f":"IF(C45=\"\",\"\",Komponentark!C93)","v":""},{"$f":"IF(C45=\"\",\"\",Komponentark!G93)","v":""},{"$f":"IF(E45=\"\",\"\",SUM(E45*F45))","v":""},{"$f":"IF(C45=\"\",\"\",Komponentark!F93)","v":""},null,null,null,null,null,null,null,null,null,null,null,null,null,{"$f":"IF(E45=\"\",\"\",\"1\")","v":""}]
[null,null,"Total",null,{"$f":"SUM(E14:E45)","v":0},null,{"$f":"SUM(G11:G45)","v":0}]
[]
[]
[]
[]
[]
[]
[]
[]
[]
[null,null,"Bestillingsark"]
[]
[null,null,"Antal ","Varenr.","Varer","EAN Nr.","Listepris","Total",null,"Listepris"]
[]
[null,null,{"$f":"IF('DALI-Dimensionering'!E5+'DALI-Dimensionering'!I5+'DALI-Dimensionering'!M5+'DALI-Dimensionering'!Q5+'DALI-Dimensionering'!U5+'DALI-Dimensionering'!Y5>0,'DALI-Dimensionering'!E5+'DALI-Dimensionering'!I5+'DALI-Dimensionering'!M5+'DALI-Dimensionering'!Q5+'DALI-Dimensionering'!U5+'DALI-Dimensionering'!Y5,\"\")","v":""},{"$f":"IF(C60=\"\",\"\",'DALI-Dimensionering'!AD5)","v":""},{"$f":"IF(C60=\"\",\"\",'DALI-Dimensionering'!B5)","v":""},null,{"$f":"IF(C60=\"\",\"\",J60)","v":""},{"$f":"IF(+G60=\"\",\"\",G60*C60)","v":""}]
[null,null,{"$f":"IF('DALI-Dimensionering'!E6+'DALI-Dimensionering'!I6+'DALI-Dimensionering'!M6+'DALI-Dimensionering'!Q6+'DALI-Dimensionering'!U6+'DALI-Dimensionering'!Y6>0,'DALI-Dimensionering'!E6+'DALI-Dimensionering'!I6+'DALI-Dimensionering'!M6+'DALI-Dimensionering'!Q6+'DALI-Dimensionering'!U6+'DALI-Dimensionering'!Y6,\"\")","v":""},{"$f":"IF(C61=\"\",\"\",'DALI-Dimensionering'!AD6)","v":""},{"$f":"IF(C61=\"\",\"\",'DALI-Dimensionering'!B6)","v":""},"Kontakt Vanpee for type.",{"$f":"IF(C61=\"\",\"\",J61)","v":""},{"$f":"IF(+G61=\"\",\"\",G61*C61)","v":""},null,1930.42,1]
[null,null,{"$f":"IF('DALI-Dimensionering'!E7+'DALI-Dimensionering'!I7+'DALI-Dimensionering'!M7+'DALI-Dimensionering'!Q7+'DALI-Dimensionering'!U7+'DALI-Dimensionering'!Y7>0,'DALI-Dimensionering'!E7+'DALI-Dimensionering'!I7+'DALI-Dimensionering'!M7+'DALI-Dimensionering'!Q7+'DALI-Dimensionering'!U7+'DALI-Dimensionering'!Y7,\"\")","v":""},{"$f":"IF(C62=\"\",\"\",'DALI-Dimensionering'!AD7)","v":""},{"$f":"IF(C62=\"\",\"\",'DALI-Dimensionering'!B7)","v":""},{"$f":"IF(C62=\"\",\"\",'DALI-Dimensionering'!AC7)","v":""},{"$f":"IF(C62=\"\",\"\",J62)","v":""},{"$f":"IF(+G62=\"\",\"\",G62*C62)","v":""},null,873.12,2]
[null,null,{"$f":"IF('DALI-Dimensionering'!E8+'DALI-Dimensionering'!I8+'DALI-Dimensionering'!M8+'DALI-Dimensionering'!Q8+'DALI-Dimensionering'!U8+'DALI-Dimensionering'!Y8>0,'DALI-Dimensionering'!E8+'DALI-Dimensionering'!I8+'DALI-Dimensionering'!M8+'DALI-Dimensionering'!Q8+'DALI-Dimensionering'!U8+'DALI-Dimensionering'!Y8,\"\")","v":""},{"$f":"IF(C63=\"\",\"\",'DALI-Dimensionering'!AD8)","v":""},{"$f":"IF(C63=\"\",\"\",'DALI-Dimensionering'!B8)","v":""},{"$f":"IF(C63=\"\",\"\",'DALI-Dimensionering'!AC8)","v":""},"","",null,1200.54,3]
[null,null,{"$f":"IF('DALI-Dimensionering'!E9+'DALI-Dimensionering'!I9+'DALI-Dimensionering'!M9+'DALI-Dimensionering'!Q9+'DALI-Dimensionering'!U9+'DALI-Dimensionering'!Y9>0,'DALI-Dimensionering'!E9+'DALI-Dimensionering'!I9+'DALI-Dimensionering'!M9+'DALI-Dimensionering'!Q9+'DALI-Dimensionering'!U9+'DALI-Dimensionering'!Y9,\"\")","v":""},{"$f":"IF(C64=\"\",\"\",'DALI-Dimensionering'!AD9)","v":""},{"$f":"IF(C64=\"\",\"\",'DALI-Dimensionering'!B9)","v":""},{"$f":"IF(C64=\"\",\"\",'DALI-Dimensionering'!AC9)","v":""},"","",null,1909.95,4]
[null,null,{"$f":"IF('DALI-Dimensionering'!E10+'DALI-Dimensionering'!I10+'DALI-Dimensionering'!M10+'DALI-Dimensionering'!Q10+'DALI-Dimensionering'!U10+'DALI-Dimensionering'!Y10>0,'DALI-Dimensionering'!E10+'DALI-Dimensionering'!I10+'DALI-Dimensionering'!M10+'DALI-Dimensionering'!Q10+'DALI-Dimensionering'!U10+'DALI-Dimensionering'!Y10,\"\")","v":""},{"$f":"IF(C65=\"\",\"\",'DALI-Dimensionering'!AD10)","v":""},{"$f":"IF(C65=\"\",\"\",'DALI-Dimensionering'!B10)","v":""},{"$f":"IF(C65=\"\",\"\",'DALI-Dimensionering'!AC10)","v":""},"","",null,2319.23,5]
[null,null,{"$f":"IF('DALI-Dimensionering'!E11+'DALI-Dimensionering'!I11+'DALI-Dimensionering'!M11+'DALI-Dimensionering'!Q11+'DALI-Dimensionering'!U11+'DALI-Dimensionering'!Y11>0,'DALI-Dimensionering'!E11+'DALI-Dimensionering'!I11+'DALI-Dimensionering'!M11+'DALI-Dimensionering'!Q11+'DALI-Dimensionering'!U11+'DALI-Dimensionering'!Y11,\"\")","v":""},{"$f":"IF(C66=\"\",\"\",'DALI-Dimensionering'!AD11)","v":""},{"$f":"IF(C66=\"\",\"\",'DALI-Dimensionering'!B11)","v":""},{"$f":"IF(C66=\"\",\"\",'DALI-Dimensionering'!AC11)","v":""},"","",null,2592.08,6]
[null,null,{"$f":"IF('DALI-Dimensionering'!E12+'DALI-Dimensionering'!I12+'DALI-Dimensionering'!M12+'DALI-Dimensionering'!Q12+'DALI-Dimensionering'!U12+'DALI-Dimensionering'!Y12>0,'DALI-Dimensionering'!E12+'DALI-Dimensionering'!I12+'DALI-Dimensionering'!M12+'DALI-Dimensionering'!Q12+'DALI-Dimensionering'!U12+'DALI-Dimensionering'!Y12,\"\")","v":""},{"$f":"IF(C67=\"\",\"\",'DALI-Dimensionering'!AD12)","v":""},{"$f":"IF(C67=\"\",\"\",'DALI-Dimensionering'!B12)","v":""},{"$f":"IF(C67=\"\",\"\",'DALI-Dimensionering'!AC12)","v":""},"","",null,1555.25,7]
[null,null,{"$f":"IF('DALI-Dimensionering'!E13+'DALI-Dimensionering'!I13+'DALI-Dimensionering'!M13+'DALI-Dimensionering'!Q13+'DALI-Dimensionering'!U13+'DALI-Dimensionering'!Y13>0,'DALI-Dimensionering'!E13+'DALI-Dimensionering'!I13+'DALI-Dimensionering'!M13+'DALI-Dimensionering'!Q13+'DALI-Dimensionering'!U13+'DALI-Dimensionering'!Y13,\"\")","v":""},{"$f":"IF(C68=\"\",\"\",'DALI-Dimensionering'!AD13)","v":""},{"$f":"IF(C68=\"\",\"\",'DALI-Dimensionering'!B13)","v":""},"Afventer nr.",{"$f":"IF(C68=\"\",\"\",J68)","v":""},{"$f":"IF(+G68=\"\",\"\",G68*C68)","v":""},null,873.12,8]
[null,null,{"$f":"IF('DALI-Dimensionering'!E14+'DALI-Dimensionering'!I14+'DALI-Dimensionering'!M14+'DALI-Dimensionering'!Q14+'DALI-Dimensionering'!U14+'DALI-Dimensionering'!Y14>0,'DALI-Dimensionering'!E14+'DALI-Dimensionering'!I14+'DALI-Dimensionering'!M14+'DALI-Dimensionering'!Q14+'DALI-Dimensionering'!U14+'DALI-Dimensionering'!Y14,\"\")","v":""},{"$f":"IF(C69=\"\",\"\",'DALI-Dimensionering'!AD14)","v":""},{"$f":"IF(C69=\"\",\"\",'DALI-Dimensionering'!B14)","v":""},{"$f":"IF(C69=\"\",\"\",'DALI-Dimensionering'!AC14)","v":""},"","",null,1200.54,9]
[null,null,{"$f":"IF('DALI-Dimensionering'!E15+'DALI-Dimensionering'!I15+'DALI-Dimensionering'!M15+'DALI-Dimensionering'!Q15+'DALI-Dimensionering'!U15+'DALI-Dimensionering'!Y15>0,'DALI-Dimensionering'!E15+'DALI-Dimensionering'!I15+'DALI-Dimensionering'!M15+'DALI-Dimensionering'!Q15+'DALI-Dimensionering'!U15+'DALI-Dimensionering'!Y15,\"\")","v":""},{"$f":"IF(C70=\"\",\"\",'DALI-Dimensionering'!AD15)","v":""},{"$f":"IF(C70=\"\",\"\",'DALI-Dimensionering'!B15)","v":""},"Afventer nr.","","",null,2182.8000000000002,10]
[null,null,{"$f":"IF('DALI-Dimensionering'!E16+'DALI-Dimensionering'!I16+'DALI-Dimensionering'!M16+'DALI-Dimensionering'!Q16+'DALI-Dimensionering'!U16+'DALI-Dimensionering'!Y16>0,'DALI-Dimensionering'!E16+'DALI-Dimensionering'!I16+'DALI-Dimensionering'!M16+'DALI-Dimensionering'!Q16+'DALI-Dimensionering'!U16+'DALI-Dimensionering'!Y16,\"\")","v":""},{"$f":"IF(C71=\"\",\"\",'DALI-Dimensionering'!AD16)","v":""},{"$f":"IF(C71=\"\",\"\",'DALI-Dimensionering'!B16)","v":""},{"$f":"IF(C71=\"\",\"\",'DALI-Dimensionering'!AC16)","v":""},{"$f":"IF(C71=\"\",\"\",J71)","v":""},{"$f":"IF(+G71=\"\",\"\",G71*C71)","v":""},null,4774.88,11]
[null,null,{"$f":"IF('DALI-Dimensionering'!E17+'DALI-Dimensionering'!I17+'DALI-Dimensionering'!M17+'DALI-Dimensionering'!Q17+'DALI-Dimensionering'!U17+'DALI-Dimensionering'!Y17>0,'DALI-Dimensionering'!E17+'DALI-Dimensionering'!I17+'DALI-Dimensionering'!M17+'DALI-Dimensionering'!Q17+'DALI-Dimensionering'!U17+'DALI-Dimensionering'!Y17,\"\")","v":""},{"$f":"IF(C72=\"\",\"\",'DALI-Dimensionering'!AD17)","v":""},{"$f":"IF(C72=\"\",\"\",'DALI-Dimensionering'!B17)","v":""},{"$f":"IF(C72=\"\",\"\",'DALI-Dimensionering'!AC17)","v":""},"","",null,6821.25,12]
[null,null,{"$f":"IF('DALI-Dimensionering'!E18+'DALI-Dimensionering'!I18+'DALI-Dimensionering'!M18+'DALI-Dimensionering'!Q18+'DALI-Dimensionering'!U18+'DALI-Dimensionering'!Y18>0,'DALI-Dimensionering'!E18+'DALI-Dimensionering'!I18+'DALI-Dimensionering'!M18+'DALI-Dimensionering'!Q18+'DALI-Dimensionering'!U18+'DALI-Dimensionering'!Y18,\"\")","v":""},{"$f":"IF(C73=\"\",\"\",'DALI-Dimensionering'!AD18)","v":""},{"$f":"IF(C73=\"\",\"\",'DALI-Dimensionering'!B18)","v":""},{"$f":"IF(C73=\"\",\"\",'DALI-Dimensionering'!AC18)","v":""},"","",null,8185.5,13]
[null,null,{"$f":"IF('DALI-Dimensionering'!E19+'DALI-Dimensionering'!I19+'DALI-Dimensionering'!M19+'DALI-Dimensionering'!Q19+'DALI-Dimensionering'!U19+'DALI-Dimensionering'!Y19>0,'DALI-Dimensionering'!E19+'DALI-Dimensionering'!I19+'DALI-Dimensionering'!M19+'DALI-Dimensionering'!Q19+'DALI-Dimensionering'!U19+'DALI-Dimensionering'!Y19,\"\")","v":""},{"$f":"IF(C74=\"\",\"\",'DALI-Dimensionering'!AD19)","v":""},{"$f":"IF(C74=\"\",\"\",'DALI-Dimensionering'!B19)","v":""},{"$f":"IF(C74=\"\",\"\",'DALI-Dimensionering'!AC19)","v":""},"","",null,4092.75,14]
[null,null,{"$f":"IF('DALI-Dimensionering'!E20+'DALI-Dimensionering'!I20+'DALI-Dimensionering'!M20+'DALI-Dimensionering'!Q20+'DALI-Dimensionering'!U20+'DALI-Dimensionering'!Y20>0,'DALI-Dimensionering'!E20+'DALI-Dimensionering'!I20+'DALI-Dimensionering'!M20+'DALI-Dimensionering'!Q20+'DALI-Dimensionering'!U20+'DALI-Dimensionering'!Y20,\"\")","v":""},{"$f":"IF(C75=\"\",\"\",'DALI-Dimensionering'!AD20)","v":""},{"$f":"IF(C75=\"\",\"\",'DALI-Dimensionering'!B20)","v":""},"Kontakt Vanpee for type.","","",null,null,15]
[null,null,{"$f":"IF('DALI-Dimensionering'!E21+'DALI-Dimensionering'!I21+'DALI-Dimensionering'!M21+'DALI-Dimensionering'!Q21+'DALI-Dimensionering'!U21+'DALI-Dimensionering'!Y21>0,'DALI-Dimensionering'!E21+'DALI-Dimensionering'!I21+'DALI-Dimensionering'!M21+'DALI-Dimensionering'!Q21+'DALI-Dimensionering'!U21+'DALI-Dimensionering'!Y21,\"\")","v":""},{"$f":"IF(C76=\"\",\"\",'DALI-Dimensionering'!AD21)","v":""},{"$f":"IF(C76=\"\",\"\",'DALI-Dimensionering'!B21)","v":""},{"$f":"IF(C76=\"\",\"\",'DALI-Dimensionering'!AC21)","v":""},"","",null,818.55,16]
[null,null,{"$f":"IF('DALI-Dimensionering'!E22+'DALI-Dimensionering'!I22+'DALI-Dimensionering'!M22+'DALI-Dimensionering'!Q22+'DALI-Dimensionering'!U22+'DALI-Dimensionering'!Y22>0,'DALI-Dimensionering'!E22+'DALI-Dimensionering'!I22+'DALI-Dimensionering'!M22+'DALI-Dimensionering'!Q22+'DALI-Dimensionering'!U22+'DALI-Dimensionering'!Y22,\"\")","v":""},{"$f":"IF(C77=\"\",\"\",'DALI-Dimensionering'!AD22)","v":""},{"$f":"IF(C77=\"\",\"\",'DALI-Dimensionering'!B22)","v":""},{"$f":"IF(C77=\"\",\"\",'DALI-Dimensionering'!AC22)","v":""},"","",null,927.69,17]
[null,null,{"$f":"IF('DALI-Dimensionering'!E23+'DALI-Dimensionering'!I23+'DALI-Dimensionering'!M23+'DALI-Dimensionering'!Q23+'DALI-Dimensionering'!U23+'DALI-Dimensionering'!Y23>0,'DALI-Dimensionering'!E23+'DALI-Dimensionering'!I23+'DALI-Dimensionering'!M23+'DALI-Dimensionering'!Q23+'DALI-Dimensionering'!U23+'DALI-Dimensionering'!Y23,\"\")","v":""},{"$f":"IF(C78=\"\",\"\",'DALI-Dimensionering'!AD23)","v":""},{"$f":"IF(C78=\"\",\"\",'DALI-Dimensionering'!B23)","v":""},{"$f":"IF(C78=\"\",\"\",'DALI-Dimensionering'!AC23)","v":""},"","",null,3001.35,18]
[null,null,{"$f":"IF('DALI-Dimensionering'!E24+'DALI-Dimensionering'!I24+'DALI-Dimensionering'!M24+'DALI-Dimensionering'!Q24+'DALI-Dimensionering'!U24+'DALI-Dimensionering'!Y24>0,'DALI-Dimensionering'!E24+'DALI-Dimensionering'!I24+'DALI-Dimensionering'!M24+'DALI-Dimensionering'!Q24+'DALI-Dimensionering'!U24+'DALI-Dimensionering'!Y24,\"\")","v":""},{"$f":"IF(C79=\"\",\"\",'DALI-Dimensionering'!AD24)","v":""},{"$f":"IF(C79=\"\",\"\",'DALI-Dimensionering'!B24)","v":""},{"$f":"IF(C79=\"\",\"\",'DALI-Dimensionering'!AC24)","v":""},"","",null,6275.55,19]
[null,null,{"$f":"IF('DALI-Dimensionering'!E25+'DALI-Dimensionering'!I25+'DALI-Dimensionering'!M25+'DALI-Dimensionering'!Q25+'DALI-Dimensionering'!U25+'DALI-Dimensionering'!Y25>0,'DALI-Dimensionering'!E25+'DALI-Dimensionering'!I25+'DALI-Dimensionering'!M25+'DALI-Dimensionering'!Q25+'DALI-Dimensionering'!U25+'DALI-Dimensionering'!Y25,\"\")","v":""},{"$f":"IF(C80=\"\",\"\",'DALI-Dimensionering'!AD25)","v":""},{"$f":"IF(C80=\"\",\"\",'DALI-Dimensionering'!B25)","v":""},{"$f":"IF(C80=\"\",\"\",'DALI-Dimensionering'!AC25)","v":""},"","",null,2455.65,20]
[null,null,{"$f":"IF('DALI-Dimensionering'!E26+'DALI-Dimensionering'!I26+'DALI-Dimensionering'!M26+'DALI-Dimensionering'!Q26+'DALI-Dimensionering'!U26+'DALI-Dimensionering'!Y26>0,'DALI-Dimensionering'!E26+'DALI-Dimensionering'!I26+'DALI-Dimensionering'!M26+'DALI-Dimensionering'!Q26+'DALI-Dimensionering'!U26+'DALI-Dimensionering'!Y26,\"\")","v":""},{"$f":"IF(C81=\"\",\"\",'DALI-Dimensionering'!AD26)","v":""},{"$f":"IF(C81=\"\",\"\",'DALI-Dimensionering'!B26)","v":""},{"$f":"IF(C81=\"\",\"\",'DALI-Dimensionering'!AC26)","v":""},"","",null,2182.8000000000002,21]
[null,null,{"$f":"IF('DALI-Dimensionering'!E27+'DALI-Dimensionering'!I27+'DALI-Dimensionering'!M27+'DALI-Dimensionering'!Q27+'DALI-Dimensionering'!U27+'DALI-Dimensionering'!Y27>0,'DALI-Dimensionering'!E27+'DALI-Dimensionering'!I27+'DALI-Dimensionering'!M27+'DALI-Dimensionering'!Q27+'DALI-Dimensionering'!U27+'DALI-Dimensionering'!Y27,\"\")","v":""},{"$f":"IF(C82=\"\",\"\",'DALI-Dimensionering'!AD27)","v":""},{"$f":"IF(C82=\"\",\"\",'DALI-Dimensionering'!B27)","v":""},{"$f":"IF(C82=\"\",\"\",'DALI-Dimensionering'!AC27)","v":""},"","",null,3765.33,22]
[null,null,{"$f":"IF('DALI-Dimensionering'!E28+'DALI-Dimensionering'!I28+'DALI-Dimensionering'!M28+'DALI-Dimensionering'!Q28+'DALI-Dimensionering'!U28+'DALI-Dimensionering'!Y28>0,'DALI-Dimensionering'!E28+'DALI-Dimensionering'!I28+'DALI-Dimensionering'!M28+'DALI-Dimensionering'!Q28+'DALI-Dimensionering'!U28+'DALI-Dimensionering'!Y28,\"\")","v":""},{"$f":"IF(C83=\"\",\"\",'DALI-Dimensionering'!AD28)","v":""},{"$f":"IF(C83=\"\",\"\",'DALI-Dimensionering'!B28)","v":""},{"$f":"IF(C83=\"\",\"\",'DALI-Dimensionering'!AC28)","v":""},"","",null,4774.88,23]
[null,null,{"$f":"IF('DALI-Dimensionering'!E29+'DALI-Dimensionering'!I29+'DALI-Dimensionering'!M29+'DALI-Dimensionering'!Q29+'DALI-Dimensionering'!U29+'DALI-Dimensionering'!Y29>0,'DALI-Dimensionering'!E29+'DALI-Dimensionering'!I29+'DALI-Dimensionering'!M29+'DALI-Dimensionering'!Q29+'DALI-Dimensionering'!U29+'DALI-Dimensionering'!Y29,\"\")","v":""},{"$f":"IF(C84=\"\",\"\",'DALI-Dimensionering'!AD29)","v":""},{"$f":"IF(C84=\"\",\"\",'DALI-Dimensionering'!B29)","v":""},{"$f":"IF(C84=\"\",\"\",'DALI-Dimensionering'!AC29)","v":""},"","",null,2728.5,24]
[null,null,{"$f":"IF('DALI-Dimensionering'!E30+'DALI-Dimensionering'!I30+'DALI-Dimensionering'!M30+'DALI-Dimensionering'!Q30+'DALI-Dimensionering'!U30+'DALI-Dimensionering'!Y30>0,'DALI-Dimensionering'!E30+'DALI-Dimensionering'!I30+'DALI-Dimensionering'!M30+'DALI-Dimensionering'!Q30+'DALI-Dimensionering'!U30+'DALI-Dimensionering'!Y30,\"\")","v":""},{"$f":"IF(C85=\"\",\"\",'DALI-Dimensionering'!AD30)","v":""},{"$f":"IF(C85=\"\",\"\",'DALI-Dimensionering'!B30)","v":""},{"$f":"IF(C85=\"\",\"\",'DALI-Dimensionering'!AC30)","v":""},"","",null,682.13,25]
[null,null,{"$f":"IF('DALI-Dimensionering'!E31+'DALI-Dimensionering'!I31+'DALI-Dimensionering'!M31+'DALI-Dimensionering'!Q31+'DALI-Dimensionering'!U31+'DALI-Dimensionering'!Y31>0,'DALI-Dimensionering'!E31+'DALI-Dimensionering'!I31+'DALI-Dimensionering'!M31+'DALI-Dimensionering'!Q31+'DALI-Dimensionering'!U31+'DALI-Dimensionering'!Y31,\"\")","v":""},{"$f":"IF(C86=\"\",\"\",'DALI-Dimensionering'!AD31)","v":""},{"$f":"IF(C86=\"\",\"\",'DALI-Dimensionering'!B31)","v":""},{"$f":"IF(C86=\"\",\"\",'DALI-Dimensionering'!AC31)","v":""},"","",null,572.99,26]
[null,null,{"$f":"IF('DALI-Dimensionering'!E32+'DALI-Dimensionering'!I32+'DALI-Dimensionering'!M32+'DALI-Dimensionering'!Q32+'DALI-Dimensionering'!U32+'DALI-Dimensionering'!Y32>0,'DALI-Dimensionering'!E32+'DALI-Dimensionering'!I32+'DALI-Dimensionering'!M32+'DALI-Dimensionering'!Q32+'DALI-Dimensionering'!U32+'DALI-Dimensionering'!Y32,\"\")","v":""},{"$f":"IF(C87=\"\",\"\",'DALI-Dimensionering'!AD32)","v":""},{"$f":"IF(C87=\"\",\"\",'DALI-Dimensionering'!B32)","v":""},{"$f":"IF(C87=\"\",\"\",'DALI-Dimensionering'!AC32)","v":""},"","",null,572.99,27]
[null,null,{"$f":"IF('DALI-Dimensionering'!E33+'DALI-Dimensionering'!I33+'DALI-Dimensionering'!M33+'DALI-Dimensionering'!Q33+'DALI-Dimensionering'!U33+'DALI-Dimensionering'!Y33>0,'DALI-Dimensionering'!E33+'DALI-Dimensionering'!I33+'DALI-Dimensionering'!M33+'DALI-Dimensionering'!Q33+'DALI-Dimensionering'!U33+'DALI-Dimensionering'!Y33,\"\")","v":""},{"$f":"IF(C88=\"\",\"\",'DALI-Dimensionering'!AD33)","v":""},{"$f":"IF(C88=\"\",\"\",'DALI-Dimensionering'!B33)","v":""},{"$f":"IF(C88=\"\",\"\",'DALI-Dimensionering'!AC33)","v":""},"","",null,2728.5,28]
[null,null,{"$f":"IF('DALI-Dimensionering'!E34+'DALI-Dimensionering'!I34+'DALI-Dimensionering'!M34+'DALI-Dimensionering'!Q34+'DALI-Dimensionering'!U34+'DALI-Dimensionering'!Y34>0,'DALI-Dimensionering'!E34+'DALI-Dimensionering'!I34+'DALI-Dimensionering'!M34+'DALI-Dimensionering'!Q34+'DALI-Dimensionering'!U34+'DALI-Dimensionering'!Y34,\"\")","v":""},{"$f":"IF(C89=\"\",\"\",'DALI-Dimensionering'!AD34)","v":""},{"$f":"IF(C89=\"\",\"\",'DALI-Dimensionering'!B34)","v":""},{"$f":"IF(C89=\"\",\"\",'DALI-Dimensionering'!AC34)","v":""},"","",null,4365.6000000000004,29]
[null,null,{"$f":"IF('DALI-Dimensionering'!E35+'DALI-Dimensionering'!I35+'DALI-Dimensionering'!M35+'DALI-Dimensionering'!Q35+'DALI-Dimensionering'!U35+'DALI-Dimensionering'!Y35>0,'DALI-Dimensionering'!E35+'DALI-Dimensionering'!I35+'DALI-Dimensionering'!M35+'DALI-Dimensionering'!Q35+'DALI-Dimensionering'!U35+'DALI-Dimensionering'!Y35,\"\")","v":""},{"$f":"IF(C90=\"\",\"\",'DALI-Dimensionering'!AD35)","v":""},{"$f":"IF(C90=\"\",\"\",'DALI-Dimensionering'!B35)","v":""},{"$f":"IF(C90=\"\",\"\",'DALI-Dimensionering'!AC35)","v":""},"","",null,2455.65,30]
[null,null,{"$f":"IF('DALI-Dimensionering'!E36+'DALI-Dimensionering'!I36+'DALI-Dimensionering'!M36+'DALI-Dimensionering'!Q36+'DALI-Dimensionering'!U36+'DALI-Dimensionering'!Y36>0,'DALI-Dimensionering'!E36+'DALI-Dimensionering'!I36+'DALI-Dimensionering'!M36+'DALI-Dimensionering'!Q36+'DALI-Dimensionering'!U36+'DALI-Dimensionering'!Y36,\"\")","v":""},{"$f":"IF(C91=\"\",\"\",'DALI-Dimensionering'!AD36)","v":""},{"$f":"IF(C91=\"\",\"\",'DALI-Dimensionering'!B36)","v":""},{"$f":"IF(C91=\"\",\"\",'DALI-Dimensionering'!AC36)","v":""},"","",null,2182.8000000000002,31]
[null,null,{"$f":"IF('DALI-Dimensionering'!E37+'DALI-Dimensionering'!I37+'DALI-Dimensionering'!M37+'DALI-Dimensionering'!Q37+'DALI-Dimensionering'!U37+'DALI-Dimensionering'!Y37>0,'DALI-Dimensionering'!E37+'DALI-Dimensionering'!I37+'DALI-Dimensionering'!M37+'DALI-Dimensionering'!Q37+'DALI-Dimensionering'!U37+'DALI-Dimensionering'!Y37,\"\")","v":""},{"$f":"IF(C92=\"\",\"\",'DALI-Dimensionering'!AD37)","v":""},{"$f":"IF(C92=\"\",\"\",'DALI-Dimensionering'!B37)","v":""},"Kontakt Vanpee for type.","","",null,null,32]
[]
[null,null,{"$f":"IF('DALI-Dimensionering'!F45+'DALI-Dimensionering'!J45+'DALI-Dimensionering'!N45+'DALI-Dimensionering'!R45+'DALI-Dimensionering'!V45+'DALI-Dimensionering'!Z45>0,'DALI-Dimensionering'!F45+'DALI-Dimensionering'!J45+'DALI-Dimensionering'!N45+'DALI-Dimensionering'!R45+'DALI-Dimensionering'!V45+'DALI-Dimensionering'!Z45,\"\")","v":""},{"$f":"IF(C94=\"\",\"\",'DALI-Dimensionering'!AD45)","v":""},{"$f":"IF(C94=\"\",\"\",\"910 Router (2xDALI)\")","v":""},{"$f":"IF(C94=\"\",\"\",'DALI-Dimensionering'!AC45)","v":""},{"$f":"IF(C94=\"\",\"\",J94)","v":""},{"$f":"IF(+G94=\"\",\"\",G94*C94)","v":""},null,11946.85,33]
[null,null,{"$f":"IF(ROUNDUP('DALI-Dimensionering'!N46,0)+ROUNDUP('DALI-Dimensionering'!F46,0)+ROUNDUP('DALI-Dimensionering'!J46,0)+ROUNDUP('DALI-Dimensionering'!R46,0)+ROUNDUP('DALI-Dimensionering'!V46,0)+ROUNDUP('DALI-Dimensionering'!Z46,0)=0,\"\",ROUNDUP('DALI-Dimensionering'!N46,0)+ROUNDUP('DALI-Dimensionering'!F46,0)+ROUNDUP('DALI-Dimensionering'!J46,0)+ROUNDUP('DALI-Dimensionering'!R46,0)+ROUNDUP('DALI-Dimensionering'!V46,0)+ROUNDUP('DALI-Dimensionering'!Z46,0))","v":""},{"$f":"IF(C95=\"\",\"\",'DALI-Dimensionering'!AD46)","v":""},{"$f":"IF(C95=\"\",\"\",\"905 Router (1xDALI)\")","v":""},{"$f":"IF(C95=\"\",\"\",'DALI-Dimensionering'!AC46)","v":""},{"$f":"IF(C95=\"\",\"\",J95)","v":""},{"$f":"IF(+G95=\"\",\"\",G95*C95)","v":""},null,6275.55,34]
[null,null,{"$f":"IF(ROUNDUP('DALI-Dimensionering'!N47,0)+ROUNDUP('DALI-Dimensionering'!F47,0)+ROUNDUP('DALI-Dimensionering'!J47,0)+ROUNDUP('DALI-Dimensionering'!R47,0)+ROUNDUP('DALI-Dimensionering'!V47,0)+ROUNDUP('DALI-Dimensionering'!Z47,0)=0,\"\",ROUNDUP('DALI-Dimensionering'!N47,0)+ROUNDUP('DALI-Dimensionering'!F47,0)+ROUNDUP('DALI-Dimensionering'!J47,0)+ROUNDUP('DALI-Dimensionering'!R47,0)+ROUNDUP('DALI-Dimensionering'!V47,0)+ROUNDUP('DALI-Dimensionering'!Z47,0))","v":""},{"$f":"IF(C96=\"\",\"\",'DALI-Dimensionering'!AD47)","v":""},{"$f":"IF(C96=\"\",\"\",\"905 Router (1xDALI)\")","v":""},{"$f":"IF(C96=\"\",\"\",'DALI-Dimensionering'!AC47)","v":""},{"$f":"IF(C96=\"\",\"\",J96)","v":""},{"$f":"IF(+G96=\"\",\"\",G96*C96)","v":""}]